BEGIN:VCALENDAR
VERSION:2.0
PRODID:-//ESHKS - ECPv6.15.20//NONSGML v1.0//EN
CALSCALE:GREGORIAN
METHOD:PUBLISH
X-ORIGINAL-URL:https://estsporthorse.ee/en/
X-WR-CALDESC:Events for ESHKS
REFRESH-INTERVAL;VALUE=DURATION:PT1H
X-Robots-Tag:noindex
X-PUBLISHED-TTL:PT1H
BEGIN:VTIMEZONE
TZID:Europe/Tallinn
BEGIN:DAYLIGHT
TZOFFSETFROM:+0200
TZOFFSETTO:+0300
TZNAME:EEST
DTSTART:20190331T010000
END:DAYLIGHT
BEGIN:STANDARD
TZOFFSETFROM:+0300
TZOFFSETTO:+0200
TZNAME:EET
DTSTART:20191027T010000
END:STANDARD
BEGIN:DAYLIGHT
TZOFFSETFROM:+0200
TZOFFSETTO:+0300
TZNAME:EEST
DTSTART:20200329T010000
END:DAYLIGHT
BEGIN:STANDARD
TZOFFSETFROM:+0300
TZOFFSETTO:+0200
TZNAME:EET
DTSTART:20201025T010000
END:STANDARD
BEGIN:DAYLIGHT
TZOFFSETFROM:+0200
TZOFFSETTO:+0300
TZNAME:EEST
DTSTART:20210328T010000
END:DAYLIGHT
BEGIN:STANDARD
TZOFFSETFROM:+0300
TZOFFSETTO:+0200
TZNAME:EET
DTSTART:20211031T010000
END:STANDARD
END:VTIMEZONE
BEGIN:VEVENT
DTSTART;TZID=Europe/Tallinn:20200723T080000
DTEND;TZID=Europe/Tallinn:20200726T170000
DTSTAMP:20260423T182739
CREATED:20200712T172110Z
LAST-MODIFIED:20200712T172110Z
UID:10000461-1595491200-1595782800@estsporthorse.ee
SUMMARY:Estonian Breeding Jumping Championships for Young Horses 2020
DESCRIPTION:Equipe https://online.equipe.com/en/competitions/37140 \nMasterlist 4 years old (27 horses)\nhttps://ratsanet.ee/events/2098/divisions/10550/registrations \nMasterlist 5 years old (33 horses)\nhttps://ratsanet.ee/events/2098/divisions/10551/registrations \nMastelist 6 years old ( 22 horses)\nhttps://ratsanet.ee/events/2098/divisions/10552/registrations \nInvitation and scedule\nhttps://ratsanet.ee/system/files/8502/TS_Perila_23-26_07_20.pdf?1594361301
URL:https://estsporthorse.ee/en/syndmus/estonian-breeding-jumping-championships-for-young-horses-2020/
LOCATION:Perila Tallid\, Eesti
ATTACH;FMTTYPE=:
GEO:58.595272;25.013607
END:VEVENT
END:VCALENDAR