BEGIN:VCALENDAR
VERSION:2.0
PRODID:-//ESHKS - ECPv6.15.20//NONSGML v1.0//EN
CALSCALE:GREGORIAN
METHOD:PUBLISH
X-WR-CALNAME:ESHKS
X-ORIGINAL-URL:https://estsporthorse.ee/en/
X-WR-CALDESC:Events for ESHKS
REFRESH-INTERVAL;VALUE=DURATION:PT1H
X-Robots-Tag:noindex
X-PUBLISHED-TTL:PT1H
BEGIN:VTIMEZONE
TZID:Europe/Tallinn
BEGIN:DAYLIGHT
TZOFFSETFROM:+0200
TZOFFSETTO:+0300
TZNAME:EEST
DTSTART:20210328T010000
END:DAYLIGHT
BEGIN:STANDARD
TZOFFSETFROM:+0300
TZOFFSETTO:+0200
TZNAME:EET
DTSTART:20211031T010000
END:STANDARD
BEGIN:DAYLIGHT
TZOFFSETFROM:+0200
TZOFFSETTO:+0300
TZNAME:EEST
DTSTART:20220327T010000
END:DAYLIGHT
BEGIN:STANDARD
TZOFFSETFROM:+0300
TZOFFSETTO:+0200
TZNAME:EET
DTSTART:20221030T010000
END:STANDARD
BEGIN:DAYLIGHT
TZOFFSETFROM:+0200
TZOFFSETTO:+0300
TZNAME:EEST
DTSTART:20230326T010000
END:DAYLIGHT
BEGIN:STANDARD
TZOFFSETFROM:+0300
TZOFFSETTO:+0200
TZNAME:EET
DTSTART:20231029T010000
END:STANDARD
BEGIN:DAYLIGHT
TZOFFSETFROM:+0200
TZOFFSETTO:+0300
TZNAME:EEST
DTSTART:20240331T010000
END:DAYLIGHT
BEGIN:STANDARD
TZOFFSETFROM:+0300
TZOFFSETTO:+0200
TZNAME:EET
DTSTART:20241027T010000
END:STANDARD
BEGIN:DAYLIGHT
TZOFFSETFROM:+0200
TZOFFSETTO:+0300
TZNAME:EEST
DTSTART:20250330T010000
END:DAYLIGHT
BEGIN:STANDARD
TZOFFSETFROM:+0300
TZOFFSETTO:+0200
TZNAME:EET
DTSTART:20251026T010000
END:STANDARD
BEGIN:DAYLIGHT
TZOFFSETFROM:+0200
TZOFFSETTO:+0300
TZNAME:EEST
DTSTART:20260329T010000
END:DAYLIGHT
BEGIN:STANDARD
TZOFFSETFROM:+0300
TZOFFSETTO:+0200
TZNAME:EET
DTSTART:20261025T010000
END:STANDARD
BEGIN:DAYLIGHT
TZOFFSETFROM:+0200
TZOFFSETTO:+0300
TZNAME:EEST
DTSTART:20270328T010000
END:DAYLIGHT
BEGIN:STANDARD
TZOFFSETFROM:+0300
TZOFFSETTO:+0200
TZNAME:EET
DTSTART:20271031T010000
END:STANDARD
END:VTIMEZONE
BEGIN:VEVENT
DTSTART;VALUE=DATE:20220320
DTEND;VALUE=DATE:20220321
DTSTAMP:20260423T012833
CREATED:20220311T123952Z
LAST-MODIFIED:20220311T123952Z
UID:10000517-1647734400-1647820799@estsporthorse.ee
SUMMARY:ESHBS annual meeting
DESCRIPTION:
URL:https://estsporthorse.ee/en/syndmus/eshbs-annual-meeting/
ATTACH;FMTTYPE=:
END:VEVENT
BEGIN:VEVENT
DTSTART;VALUE=DATE:20220424
DTEND;VALUE=DATE:20220425
DTSTAMP:20260423T012833
CREATED:20220311T124102Z
LAST-MODIFIED:20220311T124102Z
UID:10000519-1650758400-1650844799@estsporthorse.ee
SUMMARY:ESH Stallion licensing 2022
DESCRIPTION:
URL:https://estsporthorse.ee/en/syndmus/esh-stallion-licensing-2022/
ATTACH;FMTTYPE=image/jpeg:https://estsporthorse.ee/wp-content/uploads/2018/01/bwp_emeraldxkannan.jpg
END:VEVENT
BEGIN:VEVENT
DTSTART;TZID=Europe/Tallinn:20220730T080000
DTEND;TZID=Europe/Tallinn:20220731T170000
DTSTAMP:20260423T012833
CREATED:20210725T104454Z
LAST-MODIFIED:20210725T104454Z
UID:10000506-1659168000-1659286800@estsporthorse.ee
SUMMARY:Estonian Breeding Jumping Championships 2022
DESCRIPTION:Breeders Championships in Estonia  has been held  since the late 80 ‘s. For unknown reasons\, a few years were left out in early 2000\, but in 2007 the tradition was revived by ESHBS and the family Saks. That time the Estonian sport horses did not win any first places yet\, but they were already obtained a few years later in 2009 in showjumping. At that year 40 horses took part of the show. Already in 2013\, for the first time\, Estonian sport horses received more prizes than imported horses. \nEstonian Jumping Breeding Championship for Young Horses is a two day competition for 4 – 6 years old horses\, more or less 30 participants in each class. Champions at each age group are determined by jump off at the second day. The competition is rotating between different equestrian centres in Estonia and since 2019 it is hosted by Perila Stables (40 km from capital Tallinn). Many Estonian GP riders come to show their future stars\, some bred by themselves\, sometimes presenting young talents bred and trained by other breeders. \nWhen the tradition of Estonian Breeding Jumping Championship for Young Horses started\, mostly imported horses became champions but over the last decade tables have turned and last years we are proud to say that champion titels are taken by Estonian Sporthorses (ESH). \n 
URL:https://estsporthorse.ee/en/syndmus/estonian-breeding-jumping-championships-2021/
ATTACH;FMTTYPE=:
END:VEVENT
BEGIN:VEVENT
DTSTART;TZID=Europe/Tallinn:20241019T100000
DTEND;TZID=Europe/Tallinn:20241020T170000
DTSTAMP:20260423T012833
CREATED:20240825T060355Z
LAST-MODIFIED:20240825T060629Z
UID:10000571-1729332000-1729443600@estsporthorse.ee
SUMMARY:ESHBS Final Inspection
DESCRIPTION:
URL:https://estsporthorse.ee/en/syndmus/eshbs-final-inspection/
END:VEVENT
BEGIN:VEVENT
DTSTART;TZID=Europe/Tallinn:20250815T080000
DTEND;TZID=Europe/Tallinn:20250817T170000
DTSTAMP:20260423T012833
CREATED:20250630T081535Z
LAST-MODIFIED:20250630T081535Z
UID:10000590-1755244800-1755450000@estsporthorse.ee
SUMMARY:Estonian Breeders Championship in Showjumping 2025
DESCRIPTION:@ Perila Stables
URL:https://estsporthorse.ee/en/syndmus/estonian-breeders-championship-in-showjumping-2025/
END:VEVENT
BEGIN:VEVENT
DTSTART;TZID=Europe/Tallinn:20251024T170000
DTEND;TZID=Europe/Tallinn:20251026T140000
DTSTAMP:20260423T012833
CREATED:20250630T081652Z
LAST-MODIFIED:20250630T081652Z
UID:10000591-1761325200-1761487200@estsporthorse.ee
SUMMARY:ESHBS Final Inspection 2025
DESCRIPTION:@ Vaikla tallid \nJudge Paul Hubert\, SF
URL:https://estsporthorse.ee/en/syndmus/eshbs-final-inspection-2025/
END:VEVENT
BEGIN:VEVENT
DTSTART;TZID=Europe/Tallinn:20260307T100000
DTEND;TZID=Europe/Tallinn:20260307T170000
DTSTAMP:20260423T012833
CREATED:20260116T161834Z
LAST-MODIFIED:20260116T161907Z
UID:10000608-1772877600-1772902800@estsporthorse.ee
SUMMARY:ESHKS üldkoosolek
DESCRIPTION:Olustvere mõisas
URL:https://estsporthorse.ee/en/syndmus/eshks-uldkoosolek/
END:VEVENT
BEGIN:VEVENT
DTSTART;TZID=Europe/Tallinn:20260404T100000
DTEND;TZID=Europe/Tallinn:20260405T140000
DTSTAMP:20260423T012833
CREATED:20260116T162102Z
LAST-MODIFIED:20260116T162229Z
UID:10000609-1775296800-1775397600@estsporthorse.ee
SUMMARY:Täkkude päev 2026
DESCRIPTION:Toimub Niitväljal
URL:https://estsporthorse.ee/en/syndmus/takkude-paev-2025/
END:VEVENT
BEGIN:VEVENT
DTSTART;TZID=Europe/Tallinn:20261017T100000
DTEND;TZID=Europe/Tallinn:20261018T143000
DTSTAMP:20260423T012833
CREATED:20260116T162157Z
LAST-MODIFIED:20260116T162157Z
UID:10000610-1792231200-1792333800@estsporthorse.ee
SUMMARY:ESHKS ülevaatuste finaal 2026
DESCRIPTION:Toimub Vaikla ratsakeskuses
URL:https://estsporthorse.ee/en/syndmus/eshks-ulevaatuste-finaal-2026/
END:VEVENT
END:VCALENDAR