BEGIN:VCALENDAR
VERSION:2.0
PRODID:-//ESHKS - ECPv6.15.20//NONSGML v1.0//EN
CALSCALE:GREGORIAN
METHOD:PUBLISH
X-ORIGINAL-URL:https://estsporthorse.ee/en/
X-WR-CALDESC:Events for ESHKS
REFRESH-INTERVAL;VALUE=DURATION:PT1H
X-Robots-Tag:noindex
X-PUBLISHED-TTL:PT1H
BEGIN:VTIMEZONE
TZID:Europe/Tallinn
BEGIN:DAYLIGHT
TZOFFSETFROM:+0200
TZOFFSETTO:+0300
TZNAME:EEST
DTSTART:20180325T010000
END:DAYLIGHT
BEGIN:STANDARD
TZOFFSETFROM:+0300
TZOFFSETTO:+0200
TZNAME:EET
DTSTART:20181028T010000
END:STANDARD
BEGIN:DAYLIGHT
TZOFFSETFROM:+0200
TZOFFSETTO:+0300
TZNAME:EEST
DTSTART:20190331T010000
END:DAYLIGHT
BEGIN:STANDARD
TZOFFSETFROM:+0300
TZOFFSETTO:+0200
TZNAME:EET
DTSTART:20191027T010000
END:STANDARD
BEGIN:DAYLIGHT
TZOFFSETFROM:+0200
TZOFFSETTO:+0300
TZNAME:EEST
DTSTART:20200329T010000
END:DAYLIGHT
BEGIN:STANDARD
TZOFFSETFROM:+0300
TZOFFSETTO:+0200
TZNAME:EET
DTSTART:20201025T010000
END:STANDARD
END:VTIMEZONE
BEGIN:VEVENT
DTSTART;TZID=Europe/Tallinn:20190727T080000
DTEND;TZID=Europe/Tallinn:20190728T170000
DTSTAMP:20260424T143749
CREATED:20190603T070753Z
LAST-MODIFIED:20190603T070753Z
UID:10000432-1564214400-1564333200@estsporthorse.ee
SUMMARY:Estonian Breeding Dressage Championship for Young Horses
DESCRIPTION:Estonian Breeding Dressage Championship for Young Horses is a two day competition for 4 – 6 years old dressage horses.
URL:https://estsporthorse.ee/en/syndmus/estonian-breeding-dressage-championship-for-young-horses/
LOCATION:Perila Tallid\, Eesti
ATTACH;FMTTYPE=application/pdf:https://estsporthorse.ee/wp-content/uploads/2017/10/finaali-nimekiri-10.pdf
ORGANIZER;CN="ESHKS":MAILTO:info@estsporthorse.ee
GEO:58.595272;25.013607
END:VEVENT
END:VCALENDAR