BEGIN:VCALENDAR
VERSION:2.0
PRODID:-//ESHKS - ECPv6.15.20//NONSGML v1.0//EN
CALSCALE:GREGORIAN
METHOD:PUBLISH
X-ORIGINAL-URL:https://estsporthorse.ee/en/
X-WR-CALDESC:Events for ESHKS
REFRESH-INTERVAL;VALUE=DURATION:PT1H
X-Robots-Tag:noindex
X-PUBLISHED-TTL:PT1H
BEGIN:VTIMEZONE
TZID:Europe/Tallinn
BEGIN:DAYLIGHT
TZOFFSETFROM:+0200
TZOFFSETTO:+0300
TZNAME:EEST
DTSTART:20180325T010000
END:DAYLIGHT
BEGIN:STANDARD
TZOFFSETFROM:+0300
TZOFFSETTO:+0200
TZNAME:EET
DTSTART:20181028T010000
END:STANDARD
BEGIN:DAYLIGHT
TZOFFSETFROM:+0200
TZOFFSETTO:+0300
TZNAME:EEST
DTSTART:20190331T010000
END:DAYLIGHT
BEGIN:STANDARD
TZOFFSETFROM:+0300
TZOFFSETTO:+0200
TZNAME:EET
DTSTART:20191027T010000
END:STANDARD
BEGIN:DAYLIGHT
TZOFFSETFROM:+0200
TZOFFSETTO:+0300
TZNAME:EEST
DTSTART:20200329T010000
END:DAYLIGHT
BEGIN:STANDARD
TZOFFSETFROM:+0300
TZOFFSETTO:+0200
TZNAME:EET
DTSTART:20201025T010000
END:STANDARD
END:VTIMEZONE
BEGIN:VEVENT
DTSTART;TZID=Europe/Tallinn:20190928T080000
DTEND;TZID=Europe/Tallinn:20190929T170000
DTSTAMP:20260424T114609
CREATED:20190705T090502Z
LAST-MODIFIED:20190705T090502Z
UID:10000437-1569657600-1569776400@estsporthorse.ee
SUMMARY:ESHKS Finals of the Inspections
DESCRIPTION:Local Inspections start at spring. ESHBS jury visits  breeders at their studs to inspect young horses.  A \nt the end of September we invite 30 – 40 best young spor thorses to the Final Inspections where we select the \nBest 2 and 3 Years Old Mare and Stallion of the Show \nJumping and Dressage Prospect of the Show \nBest Young Sporthorse Born in Estonia \nBest In Show
URL:https://estsporthorse.ee/en/syndmus/eshks-finals-of-the-inspections/
LOCATION:Kurtna ratsaklubi\, Tagadi tee 8\, Kurtna küla\, 75503 Saku\, Harjumaa\, Estonia\, Harjumaa\, Eesti
ATTACH;FMTTYPE=:
GEO:59.3334239;25.2466973
X-APPLE-STRUCTURED-LOCATION;VALUE=URI;X-ADDRESS=Kurtna ratsaklubi Tagadi tee 8 Kurtna küla 75503 Saku Harjumaa Estonia Harjumaa Eesti;X-APPLE-RADIUS=500;X-TITLE=Tagadi tee 8\, Kurtna küla\, 75503 Saku\, Harjumaa\, Estonia:geo:25.2466973,59.3334239
END:VEVENT
END:VCALENDAR