BEGIN:VCALENDAR
VERSION:2.0
PRODID:-//ESHKS - ECPv6.15.20//NONSGML v1.0//EN
CALSCALE:GREGORIAN
METHOD:PUBLISH
X-WR-CALNAME:ESHKS
X-ORIGINAL-URL:https://estsporthorse.ee
X-WR-CALDESC:Events for ESHKS
REFRESH-INTERVAL;VALUE=DURATION:PT1H
X-Robots-Tag:noindex
X-PUBLISHED-TTL:PT1H
BEGIN:VTIMEZONE
TZID:Europe/Tallinn
BEGIN:DAYLIGHT
TZOFFSETFROM:+0200
TZOFFSETTO:+0300
TZNAME:EEST
DTSTART:20210328T010000
END:DAYLIGHT
BEGIN:STANDARD
TZOFFSETFROM:+0300
TZOFFSETTO:+0200
TZNAME:EET
DTSTART:20211031T010000
END:STANDARD
BEGIN:DAYLIGHT
TZOFFSETFROM:+0200
TZOFFSETTO:+0300
TZNAME:EEST
DTSTART:20220327T010000
END:DAYLIGHT
BEGIN:STANDARD
TZOFFSETFROM:+0300
TZOFFSETTO:+0200
TZNAME:EET
DTSTART:20221030T010000
END:STANDARD
BEGIN:DAYLIGHT
TZOFFSETFROM:+0200
TZOFFSETTO:+0300
TZNAME:EEST
DTSTART:20230326T010000
END:DAYLIGHT
BEGIN:STANDARD
TZOFFSETFROM:+0300
TZOFFSETTO:+0200
TZNAME:EET
DTSTART:20231029T010000
END:STANDARD
END:VTIMEZONE
BEGIN:VEVENT
DTSTART;VALUE=DATE:20220423
DTEND;VALUE=DATE:20220424
DTSTAMP:20260422T133217
CREATED:20220324T184102Z
LAST-MODIFIED:20220422T080847Z
UID:10000522-1650672000-1650758399@estsporthorse.ee
SUMMARY:ESHKS kevadine vabahüppevõistlus/Freejumping show
DESCRIPTION:Toimub Tähtvere tallis. Kavas on vanuseklassid: 2-aastased hobused\, 3-aastased hobused\,4-aastased hobused./ Freejumping for 2\, 3 – and 4 years old horses \nKohtunikekogu on 3-liikmeline ja sellesse kuuluvad meie 2018 – aasta finaalikohtunik\, belglane Michel Spaas\, kes on tuntud oksjonikeskkonna Horse Auction Belgium eestvedaja\, Belgias resideeruv Eesti ratsutaja Mart-Sander Aarma\, kes on ise nii sporthobuste aretaja kui edukas esitleja ning meie hindekomisjoni juht Peeter Viiard. Judges: Michel Spaas (BEL)\, Mart- Sander Aarma (EST)\, Peeter Viiard (EST) \nIga vanuseklassi võitjale karikas ja päeva parimale BIS tekk\, lisaks esemelised auhinnad. Võistlust toetavad ka Krafft Eesti ja Damiro Equestrian\, kes panevad iga vanuseklassi esikolmikule välja eriauhinnad. \nJuhendi leiate siit: J-U-H-E-N-D \nESHKS vabahüppevõistluse osalejad\, Tähtveres 2022-04-23 \nAlgusega kell 11.00 (orient. 5 min/hobune\, + iga klassi lõpus autasustamine 20 min)/participants\n\n1. B.A. ESQUI\, täkk sünd. 2020-04-08\, isa BY CERA D’ICK\, ema VIGORA ESQUI\, emaisa VIGO D`ARSOUILLES\, kasv. Oü Baltic Horse\n2. RAFAEELA\, mära sünd. 2020-04-29\, isa RAFIKI\, ema AUTORITA\, emaisa AGROVORM\’S AMERIGO\, kasv. Agnes Osa\n3. CHARITY\, mära sünd. 2020-04-13\, isa CARPO\, ema CATALINA\, emaisa CASH\, kasv. Riina Säälik\n4. CHUCK NORRIS HN\, täkk sünd. 2020-05-08\, isa CICERO Z VAN PAEMEL\, ema THASHA\, emaisa TERROR\, kasv. Maris Kartau\n5. D’HERO LAVELL\, täkk sünd. 2020-06-30\, isa D’AGANIX 2000 Z\, ema CIARA LA VELLA\, emaisa CAHIR N\, kasv. Terje Tiits\, Viigi Tiits\n6. LARDEO\, täkk sünd. 2020-04-28\, isa LESTON\, ema AREGONA\, emaisa ARGENTINUS\, kasv. Läti\n7. CHENIN ROUGE\, mära sünd. 2020-04-07\, isa CHIRON K\, ema HENNESSY\, emaisa HERMELIN\, kasv. Liis Ira\n8. BELIZE G\, mära sünd. 2020-04-1\, isa BAMAKO DE MUZE\, ema ELINNEKE\, emaisa AMPERE\, kasv. Audru Tallid Oü\n\n3-aastased (orienteeruvalt kell 12.00)\n9. DIVINE ESQUI\, mära sünd. 2019-04-11\, isa DENZEL V’T MEULENHOF\, ema ISTINA ESQUI\, emaisa I`AM SPECIAL DE MUZE\, kasv. Osaühing Tartu Graver\n10. EURIS\, mära sünd. 2019-05-27\, isa FABIOUS JS(FABIJUS)\, ema EUROPE\, emaisa 199 PALLADIUM EX POLADII\, kasv. Jane Uibopuu\n11. UNICORN NINA FROM GRAMINA\, mära sünd. 2019-06-03\,  isa UNTOUCHABLE 27\, ema CIGRANTE\, emaisa CANTURANO\, kasv. Kristi Luha\n12. CHINA QUEEN K\, mära sünd. 2019-05-10\, isa CASIMO VAN ‘T MERELSNEST \, ema INGEL K\, emaisa IN STYLE N (I’SPECIAL N)\, kasv. Mihkel Kangur\n13. CLAABU HN\, mära sünd. 2019-05-29\,  isa CHAPEAU TN\, ema EDWYNA\, emaisa ELDORADO VAN DE ZESHOEK\, kasv. Maris Kartau\n14. PATRENA\, mära sünd. 2019-05-23\,  isa PATRIARH\, ema MENA BELLE N\, emaisa MESSENGER\,kasv. Kaaramiku Oü\n15. CIRKENESS K\, mära sünd. 2019-07-01\, isa CASIMO VAN ‘T MERELSNEST Z\, ema KIRKENESS\, emaisa KONTADOR V.D. DOORNDONKHOEVE D’12\, kasv. Mihkel Kangur\n16. IMPOSSIBLE G\,  ruun sünd. 2019-07-31\, isa IN STYLE N (I’SPECIAL N)\, ema EVENT HORIZON HL\, emaisa EPSOM GESMERAY\, kasv. Audru Tallid Oü\n17. BENTLEY ESQUI\, ruun sünd. 2019-06-26\, isa BAMAKO DE MUZE\, ema VIGORA ESQUI\, emaisa VIGO D`ARSOUILLES\, kasv. Osaühing Tartu Graver\n18. WILLIAM THE KING VON KALDALA\, täkk sünd. 2019-06-03\, isa WARCELLARI V\, ema SERGIO\, emaisa SPARTACUS\, kasv. Mari-leen Kaselaan\n19. CHERIF\, täkk sünd. 2019-04-10\, isa CARPO\, ema SOFIA- SOLVEIG\, emaisa SPARTACUS\, kasv. Riina Säälik\n\n4-aastased hobused (orienteeruvalt kell 13.15)\n20. CATALEYA ROYALE\, mära sünd. 2018-04-18\, isa CHAPEAU TN\, ema BARUCH\, emaisa A BIG BOY\, kasv. Rebeka Luhaste\n21. RAMOS\, ruun sünd. 2018-04-12\, isa POLYFON\, ema RIHANNA\, emaisa PYRAMUS\, kasv. Mirje Särev\n22. EL GRINGO RP\, ruun sünd. 2018-06-17\, isa ELDORADO VAN DE ZESHOEK\, ema BRIOLIETA HO\, emaisa PADINUS\, kasv. Ragnar Privits\n23. ROYAL \, ruun\, sünd. 2018\, isa: Rigli- VU\, emaisa: Coleo\, kasv Läti\n24. CADILLAC HD\, täkk sünd. 2018-05-20\, isa CAHIR N\, ema FRIIDA\, emaisa FALSE PASS\, kasv. Daisy Ellermann\n25. EPSILON\, ruun  sünd. 2018\, isa: Esprit\, emaisa: Pedro\, kasv Läti\n\n  \n  \n 
URL:https://estsporthorse.ee/syndmus/kevadine-vabahuppevoistlus/
ATTACH;FMTTYPE=image/jpeg:https://estsporthorse.ee/wp-content/uploads/2022/03/CE9A0005.jpg
END:VEVENT
END:VCALENDAR