BEGIN:VCALENDAR
VERSION:2.0
PRODID:-//ESHKS - ECPv6.15.20//NONSGML v1.0//EN
CALSCALE:GREGORIAN
METHOD:PUBLISH
X-WR-CALNAME:ESHKS
X-ORIGINAL-URL:https://estsporthorse.ee
X-WR-CALDESC:Events for ESHKS
REFRESH-INTERVAL;VALUE=DURATION:PT1H
X-Robots-Tag:noindex
X-PUBLISHED-TTL:PT1H
BEGIN:VTIMEZONE
TZID:Europe/Tallinn
BEGIN:DAYLIGHT
TZOFFSETFROM:+0200
TZOFFSETTO:+0300
TZNAME:EEST
DTSTART:20230326T010000
END:DAYLIGHT
BEGIN:STANDARD
TZOFFSETFROM:+0300
TZOFFSETTO:+0200
TZNAME:EET
DTSTART:20231029T010000
END:STANDARD
BEGIN:DAYLIGHT
TZOFFSETFROM:+0200
TZOFFSETTO:+0300
TZNAME:EEST
DTSTART:20240331T010000
END:DAYLIGHT
BEGIN:STANDARD
TZOFFSETFROM:+0300
TZOFFSETTO:+0200
TZNAME:EET
DTSTART:20241027T010000
END:STANDARD
BEGIN:DAYLIGHT
TZOFFSETFROM:+0200
TZOFFSETTO:+0300
TZNAME:EEST
DTSTART:20250330T010000
END:DAYLIGHT
BEGIN:STANDARD
TZOFFSETFROM:+0300
TZOFFSETTO:+0200
TZNAME:EET
DTSTART:20251026T010000
END:STANDARD
END:VTIMEZONE
BEGIN:VEVENT
DTSTART;TZID=Europe/Tallinn:20240918T110000
DTEND;TZID=Europe/Tallinn:20240918T150000
DTSTAMP:20260420T095814
CREATED:20240811T161610Z
LAST-MODIFIED:20240917T084215Z
UID:10000567-1726657200-1726671600@estsporthorse.ee
SUMMARY:Piirkondlik ülevaatus Pallase ja Vao tallis
DESCRIPTION:Pallasel kell 11.00 \nVaos orienteeruvalt 14.30
URL:https://estsporthorse.ee/syndmus/piirkondlik-ulevaatus-vao-tallis-2/
END:VEVENT
BEGIN:VEVENT
DTSTART;TZID=Europe/Tallinn:20240918T170000
DTEND;TZID=Europe/Tallinn:20240918T170000
DTSTAMP:20260420T095814
CREATED:20240902T151457Z
LAST-MODIFIED:20240917T093845Z
UID:10000573-1726678800-1726678800@estsporthorse.ee
SUMMARY:Piirkondlik ülevaatus Anilepa tallis
DESCRIPTION:
URL:https://estsporthorse.ee/syndmus/piirkondlik-ulevaatus-anilepa-tallis/
END:VEVENT
END:VCALENDAR