BEGIN:VCALENDAR
VERSION:2.0
PRODID:-//ESHKS - ECPv6.15.20//NONSGML v1.0//EN
CALSCALE:GREGORIAN
METHOD:PUBLISH
X-WR-CALNAME:ESHKS
X-ORIGINAL-URL:https://estsporthorse.ee
X-WR-CALDESC:Events for ESHKS
REFRESH-INTERVAL;VALUE=DURATION:PT1H
X-Robots-Tag:noindex
X-PUBLISHED-TTL:PT1H
BEGIN:VTIMEZONE
TZID:Europe/Tallinn
BEGIN:DAYLIGHT
TZOFFSETFROM:+0200
TZOFFSETTO:+0300
TZNAME:EEST
DTSTART:20230326T010000
END:DAYLIGHT
BEGIN:STANDARD
TZOFFSETFROM:+0300
TZOFFSETTO:+0200
TZNAME:EET
DTSTART:20231029T010000
END:STANDARD
BEGIN:DAYLIGHT
TZOFFSETFROM:+0200
TZOFFSETTO:+0300
TZNAME:EEST
DTSTART:20240331T010000
END:DAYLIGHT
BEGIN:STANDARD
TZOFFSETFROM:+0300
TZOFFSETTO:+0200
TZNAME:EET
DTSTART:20241027T010000
END:STANDARD
BEGIN:DAYLIGHT
TZOFFSETFROM:+0200
TZOFFSETTO:+0300
TZNAME:EEST
DTSTART:20250330T010000
END:DAYLIGHT
BEGIN:STANDARD
TZOFFSETFROM:+0300
TZOFFSETTO:+0200
TZNAME:EET
DTSTART:20251026T010000
END:STANDARD
END:VTIMEZONE
BEGIN:VEVENT
DTSTART;TZID=Europe/Tallinn:20240822T110000
DTEND;TZID=Europe/Tallinn:20240822T170000
DTSTAMP:20260419T182710
CREATED:20240812T121451Z
LAST-MODIFIED:20240812T121451Z
UID:10000569-1724324400-1724346000@estsporthorse.ee
SUMMARY:Piirkondlik ülevaatus Saaremaal
DESCRIPTION:Lisainfo jooksvalt kus ja mis kell ülevaatused toimuvad
URL:https://estsporthorse.ee/syndmus/piirkondlik-ulevaatus-saaremaal/
END:VEVENT
BEGIN:VEVENT
DTSTART;TZID=Europe/Tallinn:20240829T110000
DTEND;TZID=Europe/Tallinn:20240829T170000
DTSTAMP:20260419T182710
CREATED:20240816T162505Z
LAST-MODIFIED:20240816T162505Z
UID:10000570-1724929200-1724950800@estsporthorse.ee
SUMMARY:Piirkondlik ülevaatus  Ridala tallis
DESCRIPTION:
URL:https://estsporthorse.ee/syndmus/piirkondlik-ulevaatus-ridala-tallis/
END:VEVENT
BEGIN:VEVENT
DTSTART;TZID=Europe/Tallinn:20240904T110000
DTEND;TZID=Europe/Tallinn:20240904T170000
DTSTAMP:20260419T182710
CREATED:20240812T121026Z
LAST-MODIFIED:20240812T121026Z
UID:10000568-1725447600-1725469200@estsporthorse.ee
SUMMARY:Piirkondlilk ülevaatus Niitväljal
DESCRIPTION:
URL:https://estsporthorse.ee/syndmus/piirkondlilk-ulevaatus-niitvaljal/
END:VEVENT
BEGIN:VEVENT
DTSTART;TZID=Europe/Tallinn:20240906T110000
DTEND;TZID=Europe/Tallinn:20240906T170000
DTSTAMP:20260419T182710
CREATED:20240617T055722Z
LAST-MODIFIED:20240617T055722Z
UID:10000560-1725620400-1725642000@estsporthorse.ee
SUMMARY:Piirkondlik ülevaatus Gramina kasvanduses
DESCRIPTION:
URL:https://estsporthorse.ee/syndmus/piirkondlik-ulevaatus-gramina-kasvanduses-3/
END:VEVENT
BEGIN:VEVENT
DTSTART;TZID=Europe/Tallinn:20240906T153000
DTEND;TZID=Europe/Tallinn:20240906T170000
DTSTAMP:20260419T182710
CREATED:20240902T151329Z
LAST-MODIFIED:20240902T151329Z
UID:10000572-1725636600-1725642000@estsporthorse.ee
SUMMARY:Piirkondlik ülevaatus Liivaku tallis
DESCRIPTION:
URL:https://estsporthorse.ee/syndmus/piirkondlik-ulevaatus-liivaku-tallis/
END:VEVENT
BEGIN:VEVENT
DTSTART;TZID=Europe/Tallinn:20240918T110000
DTEND;TZID=Europe/Tallinn:20240918T150000
DTSTAMP:20260419T182710
CREATED:20240811T161610Z
LAST-MODIFIED:20240917T084215Z
UID:10000567-1726657200-1726671600@estsporthorse.ee
SUMMARY:Piirkondlik ülevaatus Pallase ja Vao tallis
DESCRIPTION:Pallasel kell 11.00 \nVaos orienteeruvalt 14.30
URL:https://estsporthorse.ee/syndmus/piirkondlik-ulevaatus-vao-tallis-2/
END:VEVENT
BEGIN:VEVENT
DTSTART;TZID=Europe/Tallinn:20240918T170000
DTEND;TZID=Europe/Tallinn:20240918T170000
DTSTAMP:20260419T182710
CREATED:20240902T151457Z
LAST-MODIFIED:20240917T093845Z
UID:10000573-1726678800-1726678800@estsporthorse.ee
SUMMARY:Piirkondlik ülevaatus Anilepa tallis
DESCRIPTION:
URL:https://estsporthorse.ee/syndmus/piirkondlik-ulevaatus-anilepa-tallis/
END:VEVENT
BEGIN:VEVENT
DTSTART;TZID=Europe/Tallinn:20240919T140000
DTEND;TZID=Europe/Tallinn:20240919T170000
DTSTAMP:20260419T182710
CREATED:20240912T161650Z
LAST-MODIFIED:20240912T161650Z
UID:10000574-1726754400-1726765200@estsporthorse.ee
SUMMARY:Piirkondlik ülevaatus Padise tallis
DESCRIPTION:
URL:https://estsporthorse.ee/syndmus/piirkondlik-ulevaatus-padise-tallis-3/
END:VEVENT
BEGIN:VEVENT
DTSTART;TZID=Europe/Tallinn:20240924T110000
DTEND;TZID=Europe/Tallinn:20240924T170000
DTSTAMP:20260419T182710
CREATED:20240922T061752Z
LAST-MODIFIED:20240922T061752Z
UID:10000576-1727175600-1727197200@estsporthorse.ee
SUMMARY:Piirkondlik ülevaatus Luunjas
DESCRIPTION:Algusega kell 11.00
URL:https://estsporthorse.ee/syndmus/piirkondlik-ulevaatus-luunjas-2/
END:VEVENT
BEGIN:VEVENT
DTSTART;TZID=Europe/Tallinn:20241005T134500
DTEND;TZID=Europe/Tallinn:20241005T143000
DTSTAMP:20260419T182710
CREATED:20240916T045107Z
LAST-MODIFIED:20240930T133127Z
UID:10000575-1728135900-1728138600@estsporthorse.ee
SUMMARY:Raamatu "Eesti sporthobune" esitlus Unibet Arenal
DESCRIPTION:Hea seltsiliige! \nJuhul kui olete laupäeval\, 5. oktoobril külastamas Tallinn International Horse Show´ d siis olete oodatud raamatu “Eesti sporthobune” esitlusele\, mis toimub  II tasandi restoranialal Masottina algusega kell 13.45 \n“Eesti sporthobune”\nAutor ja koostaja Raigo Kollom ning 13 kaasautorit teevad selles raamatus kokkuvõtte Eesti Sporthobuste Kasvatajate Seltsi tegevusest\, annavad ülevaate selle tõu loomisest ja aretuse arengust olümpiahobuste kasvatamiseni. Raamat kirjeldab olulisemaid hobuseid\, edukamaid kasvatajaid ja moodsa aretuse põhimõtteid. Esitatud on suur hulk statistikat ja pildimaterjali ning rahvusvaheliste autoriteetide mõtteavaldusi.” \n \n 
URL:https://estsporthorse.ee/syndmus/raamatu-eesti-sporthobune-esitlus-unibet-arenal/
ATTACH;FMTTYPE=image/jpeg:https://estsporthorse.ee/wp-content/uploads/2024/09/ESHKS_kaaned-copy.jpg
END:VEVENT
BEGIN:VEVENT
DTSTART;TZID=Europe/Tallinn:20241019T100000
DTEND;TZID=Europe/Tallinn:20241020T150000
DTSTAMP:20260419T182710
CREATED:20240507T085244Z
LAST-MODIFIED:20240507T085244Z
UID:10000557-1729332000-1729436400@estsporthorse.ee
SUMMARY:ESHKS ülevaatuste finaal 2024
DESCRIPTION:
URL:https://estsporthorse.ee/syndmus/eshks-ulevaatuste-finaal-2024/
ATTACH;FMTTYPE=image/jpeg:https://estsporthorse.ee/wp-content/uploads/2024/05/kaaned2022.jpg
END:VEVENT
END:VCALENDAR