BEGIN:VCALENDAR
VERSION:2.0
PRODID:-//ESHKS - ECPv6.15.20//NONSGML v1.0//EN
CALSCALE:GREGORIAN
METHOD:PUBLISH
X-WR-CALNAME:ESHKS
X-ORIGINAL-URL:https://estsporthorse.ee
X-WR-CALDESC:Events for ESHKS
REFRESH-INTERVAL;VALUE=DURATION:PT1H
X-Robots-Tag:noindex
X-PUBLISHED-TTL:PT1H
BEGIN:VTIMEZONE
TZID:Europe/Tallinn
BEGIN:DAYLIGHT
TZOFFSETFROM:+0200
TZOFFSETTO:+0300
TZNAME:EEST
DTSTART:20240331T010000
END:DAYLIGHT
BEGIN:STANDARD
TZOFFSETFROM:+0300
TZOFFSETTO:+0200
TZNAME:EET
DTSTART:20241027T010000
END:STANDARD
BEGIN:DAYLIGHT
TZOFFSETFROM:+0200
TZOFFSETTO:+0300
TZNAME:EEST
DTSTART:20250330T010000
END:DAYLIGHT
BEGIN:STANDARD
TZOFFSETFROM:+0300
TZOFFSETTO:+0200
TZNAME:EET
DTSTART:20251026T010000
END:STANDARD
BEGIN:DAYLIGHT
TZOFFSETFROM:+0200
TZOFFSETTO:+0300
TZNAME:EEST
DTSTART:20260329T010000
END:DAYLIGHT
BEGIN:STANDARD
TZOFFSETFROM:+0300
TZOFFSETTO:+0200
TZNAME:EET
DTSTART:20261025T010000
END:STANDARD
END:VTIMEZONE
BEGIN:VEVENT
DTSTART;TZID=Europe/Tallinn:20250910T110000
DTEND;TZID=Europe/Tallinn:20250910T170000
DTSTAMP:20260420T102034
CREATED:20250811T101839Z
LAST-MODIFIED:20250903T115729Z
UID:10000596-1757502000-1757523600@estsporthorse.ee
SUMMARY:Piirkondlik ülevaatus Tori hobusekasvanduses
DESCRIPTION:Algusega kell 11.00 \nLisainfo (registreerimine\, tasud koha peal\, bokside broneerimine): \nhttps://estsporthorse.ee/wp-content/uploads/2025/08/10.09.25-ESHKS-ulevaatus-THK.pdf
URL:https://estsporthorse.ee/syndmus/piirkondlik-ulevaatus-tori-hobusekasvanduses-2/
END:VEVENT
BEGIN:VEVENT
DTSTART;TZID=Europe/Tallinn:20250911T110000
DTEND;TZID=Europe/Tallinn:20250911T170000
DTSTAMP:20260420T102034
CREATED:20250822T085759Z
LAST-MODIFIED:20250822T085759Z
UID:10000602-1757588400-1757610000@estsporthorse.ee
SUMMARY:Piirkondlik ülevaatus Juurimaa tallis
DESCRIPTION:Algusega kell 11.00
URL:https://estsporthorse.ee/syndmus/piirkondlik-ulevaatus-juurimaa-tallis-4/
END:VEVENT
BEGIN:VEVENT
DTSTART;TZID=Europe/Tallinn:20250915T110000
DTEND;TZID=Europe/Tallinn:20250915T170000
DTSTAMP:20260420T102034
CREATED:20250822T084356Z
LAST-MODIFIED:20250909T160038Z
UID:10000601-1757934000-1757955600@estsporthorse.ee
SUMMARY:Piirkondlik ülevaatus Niitväljal
DESCRIPTION:Algusega kell 11.00 \nÜlevaatus toimub vastavalt üldjuhendile (link) Osalemise tingimused: Registreerimine hiljemalt 11.09 info@estsporthorse.ee Registreerimisel hobuse nimi ja UELN nr. Ülevaatus toimub ainult 2-6a. ESH/ERP hobustele ja on osalejatele tasuta. Ootame maksimum kuni 15 hobust registreerimiste alusel (kes ees see mees) \nLisainfo: Sveni Leek tel 5142317\, päevabokside broneerimine kokkuleppida Andres Trevega tel 56240000 \n 
URL:https://estsporthorse.ee/syndmus/piirkondlik-ulevaatus-niitvaljal-2/
END:VEVENT
BEGIN:VEVENT
DTSTART;TZID=Europe/Tallinn:20250919T140000
DTEND;TZID=Europe/Tallinn:20250919T170000
DTSTAMP:20260420T102034
CREATED:20250826T170219Z
LAST-MODIFIED:20250826T170219Z
UID:10000604-1758290400-1758301200@estsporthorse.ee
SUMMARY:Piirkondlik ülevaatus Pallase tallides
DESCRIPTION:Algusega kell 14.00
URL:https://estsporthorse.ee/syndmus/piirkondlik-ulevaatus-pallase-tallides/
END:VEVENT
BEGIN:VEVENT
DTSTART;TZID=Europe/Tallinn:20250922T110000
DTEND;TZID=Europe/Tallinn:20250922T170000
DTSTAMP:20260420T102034
CREATED:20250906T063848Z
LAST-MODIFIED:20250906T063848Z
UID:10000606-1758538800-1758560400@estsporthorse.ee
SUMMARY:Piirkondlikud ülevaatused Lõuna-Eestis
DESCRIPTION:Kell 11.00 Kugoritsas \norient. kell 14.30 Kotka talus
URL:https://estsporthorse.ee/syndmus/piirkondlikud-ulevaatused-louna-eestis-3/
END:VEVENT
BEGIN:VEVENT
DTSTART;TZID=Europe/Tallinn:20250924T110000
DTEND;TZID=Europe/Tallinn:20250924T170000
DTSTAMP:20260420T102034
CREATED:20250824T133327Z
LAST-MODIFIED:20250824T133327Z
UID:10000603-1758711600-1758733200@estsporthorse.ee
SUMMARY:Piirkondlik ülevaatus Perila tallides
DESCRIPTION:Algusega kell 11.00
URL:https://estsporthorse.ee/syndmus/piirkondlik-ulevaatus-perila-tallides-2/
END:VEVENT
BEGIN:VEVENT
DTSTART;TZID=Europe/Tallinn:20250925T110000
DTEND;TZID=Europe/Tallinn:20250925T170000
DTSTAMP:20260420T102034
CREATED:20250811T102136Z
LAST-MODIFIED:20250923T113544Z
UID:10000597-1758798000-1758819600@estsporthorse.ee
SUMMARY:Piirkondlik ülevaatus Linnumäel\, Kärdlas
DESCRIPTION:Algusega kell 12.00
URL:https://estsporthorse.ee/syndmus/piirkondlik-ulevaatus-linnumael-kardlas/
END:VEVENT
BEGIN:VEVENT
DTSTART;TZID=Europe/Tallinn:20250926T110000
DTEND;TZID=Europe/Tallinn:20250926T170000
DTSTAMP:20260420T102034
CREATED:20250828T134905Z
LAST-MODIFIED:20250828T134905Z
UID:10000605-1758884400-1758906000@estsporthorse.ee
SUMMARY:Piirkondlik ülevaatus Padise tallis
DESCRIPTION:Algusega kell 11.00
URL:https://estsporthorse.ee/syndmus/piirkondlik-ulevaatus-padise-tallis-4/
END:VEVENT
END:VCALENDAR