BEGIN:VCALENDAR
VERSION:2.0
PRODID:-//ESHKS - ECPv6.15.20//NONSGML v1.0//EN
CALSCALE:GREGORIAN
METHOD:PUBLISH
X-WR-CALNAME:ESHKS
X-ORIGINAL-URL:https://estsporthorse.ee
X-WR-CALDESC:Events for ESHKS
REFRESH-INTERVAL;VALUE=DURATION:PT1H
X-Robots-Tag:noindex
X-PUBLISHED-TTL:PT1H
BEGIN:VTIMEZONE
TZID:Europe/Tallinn
BEGIN:DAYLIGHT
TZOFFSETFROM:+0200
TZOFFSETTO:+0300
TZNAME:EEST
DTSTART:20200329T010000
END:DAYLIGHT
BEGIN:STANDARD
TZOFFSETFROM:+0300
TZOFFSETTO:+0200
TZNAME:EET
DTSTART:20201025T010000
END:STANDARD
BEGIN:DAYLIGHT
TZOFFSETFROM:+0200
TZOFFSETTO:+0300
TZNAME:EEST
DTSTART:20210328T010000
END:DAYLIGHT
BEGIN:STANDARD
TZOFFSETFROM:+0300
TZOFFSETTO:+0200
TZNAME:EET
DTSTART:20211031T010000
END:STANDARD
BEGIN:DAYLIGHT
TZOFFSETFROM:+0200
TZOFFSETTO:+0300
TZNAME:EEST
DTSTART:20220327T010000
END:DAYLIGHT
BEGIN:STANDARD
TZOFFSETFROM:+0300
TZOFFSETTO:+0200
TZNAME:EET
DTSTART:20221030T010000
END:STANDARD
END:VTIMEZONE
BEGIN:VEVENT
DTSTART;TZID=Europe/Tallinn:20210225T080000
DTEND;TZID=Europe/Tallinn:20211018T170000
DTSTAMP:20260422T194041
CREATED:20210225T093942Z
LAST-MODIFIED:20210330T122137Z
UID:10000493-1614240000-1634576400@estsporthorse.ee
SUMMARY:Fotokonkurss "ESH 20"
DESCRIPTION:Miks: konkursi eesmärgiks on jäädvustada eesti sporthobuste tegemised juubeliaastal ja aasta lõpuks panna parimast 13 – st tööst kokku kalender. Oodatud on fotod kõigist sporthobuse kasvatusega seotud valdkondadest – varsa sünnist meistrivõistlustel osalemiseni. Võitja foto paigutatakse kaanele. Kõik kalendris avaldatud fotode autorid saavad kalendri endale meeneks. \nMilline foto: konkursist osavõtmiseks võib saata max 3 fotot/osaleja. Foto peab olema tehtud 2021. aastal eesti sporthobusest ja koos fotoga (soovitavalt faili nimes) saata info fotol oleva hobuse ja sündmuse andmetega. Konkursile saadetud foto peab olema enda tehtud ning ka fotol kujutatu peab olema kooskõlastatud hobuse omanikuga.Trükkimiseks peab foto pikem külg olema ca 3000 pikslit. \nKes hindavad: Kalendri fotod valib välja zürii: Külli Tedre Gavrilov\, Liis Ira jt. Hinnatakse fotol jäädvustatud hetke ainulaadsust\, kompositsiooni\, foto tehnilist taset (valgus\, teravus jne) \nKuhu saata: emailiga liis@estsporthorse.ee Konkurss kestab kuni ESHKS finaalini (k.a.) oktoobris. Võitjad avalikustatakse novembris. Saadetud fotod laetakse jooksvalt üles veebigaleriisse. \nIlusaid hetki eesti sporthobustega!
URL:https://estsporthorse.ee/syndmus/fotokonkurss-esh-20/
ATTACH;FMTTYPE=image/jpeg:https://estsporthorse.ee/wp-content/uploads/2021/02/KONKURSS.jpg
ORGANIZER;CN="ESHKS":MAILTO:info@estsporthorse.ee
END:VEVENT
BEGIN:VEVENT
DTSTART;TZID=Europe/Tallinn:20211016T100000
DTEND;TZID=Europe/Tallinn:20211017T163000
DTSTAMP:20260422T194041
CREATED:20210126T150954Z
LAST-MODIFIED:20210923T120200Z
UID:10000489-1634378400-1634488200@estsporthorse.ee
SUMMARY:ESHKS ülevaatuste finaal 2021
DESCRIPTION:ESHKS ülevaatuste finaal 2021 toimub Vaikla ratsakeskuses Ida-Virumaal
URL:https://estsporthorse.ee/syndmus/eshks-ulevaatuste-finaal-2020/
ATTACH;FMTTYPE=image/jpeg:https://estsporthorse.ee/wp-content/uploads/2020/10/üld-1.jpg
ORGANIZER;CN="ESHKS":MAILTO:info@estsporthorse.ee
END:VEVENT
END:VCALENDAR