BEGIN:VCALENDAR
VERSION:2.0
PRODID:-//ESHKS - ECPv6.15.20//NONSGML v1.0//EN
CALSCALE:GREGORIAN
METHOD:PUBLISH
X-ORIGINAL-URL:https://estsporthorse.ee
X-WR-CALDESC:Events for ESHKS
REFRESH-INTERVAL;VALUE=DURATION:PT1H
X-Robots-Tag:noindex
X-PUBLISHED-TTL:PT1H
BEGIN:VTIMEZONE
TZID:Europe/Tallinn
BEGIN:DAYLIGHT
TZOFFSETFROM:+0200
TZOFFSETTO:+0300
TZNAME:EEST
DTSTART:20220327T010000
END:DAYLIGHT
BEGIN:STANDARD
TZOFFSETFROM:+0300
TZOFFSETTO:+0200
TZNAME:EET
DTSTART:20221030T010000
END:STANDARD
BEGIN:DAYLIGHT
TZOFFSETFROM:+0200
TZOFFSETTO:+0300
TZNAME:EEST
DTSTART:20230326T010000
END:DAYLIGHT
BEGIN:STANDARD
TZOFFSETFROM:+0300
TZOFFSETTO:+0200
TZNAME:EET
DTSTART:20231029T010000
END:STANDARD
BEGIN:DAYLIGHT
TZOFFSETFROM:+0200
TZOFFSETTO:+0300
TZNAME:EEST
DTSTART:20240331T010000
END:DAYLIGHT
BEGIN:STANDARD
TZOFFSETFROM:+0300
TZOFFSETTO:+0200
TZNAME:EET
DTSTART:20241027T010000
END:STANDARD
END:VTIMEZONE
BEGIN:VEVENT
DTSTART;TZID=Europe/Tallinn:20231021T100000
DTEND;TZID=Europe/Tallinn:20231022T143000
DTSTAMP:20260421T075717
CREATED:20230419T144457Z
LAST-MODIFIED:20231010T111812Z
UID:10000534-1697882400-1697985000@estsporthorse.ee
SUMMARY:ESHKS ülevaatuste finaal 2023
DESCRIPTION:21- 22. oktoobril leiab aset iga aastane Eesti Sporthobuste Kasvatajate Seltsi poolt korraldatud noorte sporthobuste ülevaatuste finaal\, kus selgitatakse kahe päeva jooksul välja tänavused vabariigi parimad 2-3 aastased noorhobused\, parim hüppehobune\, parim koolisõiduhobune ja kogu show parim ehk BIS.   Pühapäeval toimub ülevaatusest otseülekanne millel on sadu jälgijaid nii Eestis kui piiri taga. Meie platsimeeskond koosneb Eesti tipp- ratsasportlastest ja oma toodangut esitlevad  edukaimad sporthobusekasvatajad. Tõotab tulla põnev sündmus. \nPõnevust lisavad publiku äraarvamismängud\, õigesti vastanute vahel loositakse ESHKS auhindu – tule kindlasti Vaikla ratsakeskusesse  kaasa elama! \nVäliskohtunikuks on sel aastal  Bernard Demets\, kes  on treener\, kohtunik\, aretaja (www.harasderosiers.be) ja tuntud ka kui üks suure oksjoniplatvormi Equinia osanikest. Samuti on ta hinnatud arvamusliider hobumaailmas üleüldse. Näiteks on ta tuntud andmebaasi Hippomundo mõttekojas koos mitmete teiste ratsatööstuses mainekate isikutega nagu näiteks meie tunamullune finaalikohtunik Bernard Le Courtois. \nVAATA SIIT FINAALI VIDEOKLIPPI \nESHKS ülevaatuste finaali kataloog 2023 \n\n  \n 
URL:https://estsporthorse.ee/syndmus/eshks-ulevaatuste-finaal-2023/
ATTACH;FMTTYPE=image/jpeg:https://estsporthorse.ee/wp-content/uploads/2023/04/CE9A8856-scaled.jpg
END:VEVENT
END:VCALENDAR