BEGIN:VCALENDAR
VERSION:2.0
PRODID:-//ESHKS - ECPv6.15.20//NONSGML v1.0//EN
CALSCALE:GREGORIAN
METHOD:PUBLISH
X-WR-CALNAME:ESHKS
X-ORIGINAL-URL:https://estsporthorse.ee
X-WR-CALDESC:Events for ESHKS
REFRESH-INTERVAL;VALUE=DURATION:PT1H
X-Robots-Tag:noindex
X-PUBLISHED-TTL:PT1H
BEGIN:VTIMEZONE
TZID:Europe/Tallinn
BEGIN:DAYLIGHT
TZOFFSETFROM:+0200
TZOFFSETTO:+0300
TZNAME:EEST
DTSTART:20230326T010000
END:DAYLIGHT
BEGIN:STANDARD
TZOFFSETFROM:+0300
TZOFFSETTO:+0200
TZNAME:EET
DTSTART:20231029T010000
END:STANDARD
BEGIN:DAYLIGHT
TZOFFSETFROM:+0200
TZOFFSETTO:+0300
TZNAME:EEST
DTSTART:20240331T010000
END:DAYLIGHT
BEGIN:STANDARD
TZOFFSETFROM:+0300
TZOFFSETTO:+0200
TZNAME:EET
DTSTART:20241027T010000
END:STANDARD
BEGIN:DAYLIGHT
TZOFFSETFROM:+0200
TZOFFSETTO:+0300
TZNAME:EEST
DTSTART:20250330T010000
END:DAYLIGHT
BEGIN:STANDARD
TZOFFSETFROM:+0300
TZOFFSETTO:+0200
TZNAME:EET
DTSTART:20251026T010000
END:STANDARD
END:VTIMEZONE
BEGIN:VEVENT
DTSTART;VALUE=DATE:20240508
DTEND;VALUE=DATE:20240509
DTSTAMP:20260420T143803
CREATED:20240419T070804Z
LAST-MODIFIED:20240419T071555Z
UID:10000554-1715126400-1715212799@estsporthorse.ee
SUMMARY:Piirkondlik ülevaatus Säreveres
DESCRIPTION:Algusega kell 11.00
URL:https://estsporthorse.ee/syndmus/piirkondlik-ulevaatus-sareveres-3/
ATTACH;FMTTYPE=image/jpeg:https://estsporthorse.ee/wp-content/uploads/2024/04/CE9A0741.jpg
END:VEVENT
BEGIN:VEVENT
DTSTART;VALUE=DATE:20240511
DTEND;VALUE=DATE:20240512
DTSTAMP:20260420T143803
CREATED:20240422T181338Z
LAST-MODIFIED:20240422T181516Z
UID:10000555-1715385600-1715471999@estsporthorse.ee
SUMMARY:ESHKS üldkoosolek 2024
DESCRIPTION:ESHKS üldkoosolek toimub 11. mail Särevere mõisas. \n10.30 registreerimine ja hommikukohv \n11.00 Koosoleku algus \nPÄEVAKORD: \n1. Põhikirja muutmine ja redaktsiooni kinnitamine. Muudatus on vajalik põhikirja Mittetulundusühingute seadusega kooskõlla viimiseks. \nKehtiva ESHKS põhikirja leiate siit: \nhttps://estsporthorse.ee/wp-content/uploads/2024/04/ESHKS-pohikiri.rtf \nMuudatusettepanekud leiate siit: \nhttps://estsporthorse.ee/wp-content/uploads/2024/04/pohikirja-muudatus-1.rtf \n2. Majandusaastaaruande esitamine ja selle kinnitamine. Aruande leiate siit: \nhttps://estsporthorse.ee/wp-content/uploads/2024/04/Aruanne_80130107-eshks.pdf \n3. Revisjoni komisjoni aruande esitamine ja selle kinnitamine. Aruande leiate siit: \nhttps://estsporthorse.ee/wp-content/uploads/2024/04/ESHKS-revisjonikomisjon-2023.docx \n4. Raigo Kollom tutvustab  „Raamatu „Eesti sporthobune” koostamise muresid ja rõõmusid\, esitab raamatu struktuuri\, vastab küsimustele ning selgitab\, mida kirjutajailt ja pildikogudest ootab. \nKohvilaua tellimiseks palume registreeruda: 5.05 e-posti teel info@estsporthorse.ee
URL:https://estsporthorse.ee/syndmus/eshks-uldkoosolek-2024/
ATTACH;FMTTYPE=image/jpeg:https://estsporthorse.ee/wp-content/uploads/2024/04/koosolek.jpg
END:VEVENT
BEGIN:VEVENT
DTSTART;VALUE=DATE:20240516
DTEND;VALUE=DATE:20240517
DTSTAMP:20260420T143803
CREATED:20240514T092431Z
LAST-MODIFIED:20240514T092431Z
UID:10000558-1715817600-1715903999@estsporthorse.ee
SUMMARY:Piirkondlik ülevaatus Virve talus
DESCRIPTION:Algusega kell 11.00
URL:https://estsporthorse.ee/syndmus/piirkondlik-ulevaatus-virve-talus-3/
END:VEVENT
BEGIN:VEVENT
DTSTART;VALUE=DATE:20240524
DTEND;VALUE=DATE:20240525
DTSTAMP:20260420T143803
CREATED:20240422T181926Z
LAST-MODIFIED:20240422T181926Z
UID:10000556-1716508800-1716595199@estsporthorse.ee
SUMMARY:Piirkondlikud ülevaatused Lõuna-Eestis
DESCRIPTION:Algusega kell 11.00 Leevaku tallis \nPärastlõunal Raudsepa talus
URL:https://estsporthorse.ee/syndmus/piirkondlikud-ulevaatused-louna-eestis/
ATTACH;FMTTYPE=image/jpeg:https://estsporthorse.ee/wp-content/uploads/2024/04/m_CE9A6412.jpg
END:VEVENT
END:VCALENDAR