BEGIN:VCALENDAR
VERSION:2.0
PRODID:-//ESHKS - ECPv6.15.20//NONSGML v1.0//EN
CALSCALE:GREGORIAN
METHOD:PUBLISH
X-WR-CALNAME:ESHKS
X-ORIGINAL-URL:https://estsporthorse.ee
X-WR-CALDESC:Events for ESHKS
REFRESH-INTERVAL;VALUE=DURATION:PT1H
X-Robots-Tag:noindex
X-PUBLISHED-TTL:PT1H
BEGIN:VTIMEZONE
TZID:Europe/Tallinn
BEGIN:DAYLIGHT
TZOFFSETFROM:+0200
TZOFFSETTO:+0300
TZNAME:EEST
DTSTART:20210328T010000
END:DAYLIGHT
BEGIN:STANDARD
TZOFFSETFROM:+0300
TZOFFSETTO:+0200
TZNAME:EET
DTSTART:20211031T010000
END:STANDARD
BEGIN:DAYLIGHT
TZOFFSETFROM:+0200
TZOFFSETTO:+0300
TZNAME:EEST
DTSTART:20220327T010000
END:DAYLIGHT
BEGIN:STANDARD
TZOFFSETFROM:+0300
TZOFFSETTO:+0200
TZNAME:EET
DTSTART:20221030T010000
END:STANDARD
BEGIN:DAYLIGHT
TZOFFSETFROM:+0200
TZOFFSETTO:+0300
TZNAME:EEST
DTSTART:20230326T010000
END:DAYLIGHT
BEGIN:STANDARD
TZOFFSETFROM:+0300
TZOFFSETTO:+0200
TZNAME:EET
DTSTART:20231029T010000
END:STANDARD
END:VTIMEZONE
BEGIN:VEVENT
DTSTART;VALUE=DATE:20220517
DTEND;VALUE=DATE:20220518
DTSTAMP:20260422T115544
CREATED:20220427T093443Z
LAST-MODIFIED:20220502T102435Z
UID:10000523-1652745600-1652831999@estsporthorse.ee
SUMMARY:Piirkondlikud ülevaatused Lõuna-Eestis
DESCRIPTION:Algusega kell 11.00 Peeter Viiardi tallis\, pärastlõunal Leevaku tallis \nMõlemas kohas on võimalik esitada väljast tulnud hobuseid. Palume eelnevalt võtta sellel teemal ühendust ka talliomanikega. Peeter Viiard + 3725035148\, Vanessa Mälberg kontakt: (Leevaku) Leevakuvoistlused@hotmail.com \nRegistreerimine ülevaatusele palume teha siiski sellel e-posti aadressil !!! liis@estsporthorse.ee  !!! hiljemalt 12. maiks. HILJEM REGISTREERIMINE EI OLE VÕIMALIK!
URL:https://estsporthorse.ee/syndmus/piirkondlik-ulevaatus-louna-eestis/
ATTACH;FMTTYPE=image/jpeg:https://estsporthorse.ee/wp-content/uploads/2022/02/benjamin-v.jpg
END:VEVENT
END:VCALENDAR