BEGIN:VCALENDAR
VERSION:2.0
PRODID:-//ESHKS - ECPv6.15.20//NONSGML v1.0//EN
CALSCALE:GREGORIAN
METHOD:PUBLISH
X-ORIGINAL-URL:https://estsporthorse.ee
X-WR-CALDESC:Events for ESHKS
REFRESH-INTERVAL;VALUE=DURATION:PT1H
X-Robots-Tag:noindex
X-PUBLISHED-TTL:PT1H
BEGIN:VTIMEZONE
TZID:Europe/Tallinn
BEGIN:DAYLIGHT
TZOFFSETFROM:+0200
TZOFFSETTO:+0300
TZNAME:EEST
DTSTART:20210328T010000
END:DAYLIGHT
BEGIN:STANDARD
TZOFFSETFROM:+0300
TZOFFSETTO:+0200
TZNAME:EET
DTSTART:20211031T010000
END:STANDARD
BEGIN:DAYLIGHT
TZOFFSETFROM:+0200
TZOFFSETTO:+0300
TZNAME:EEST
DTSTART:20220327T010000
END:DAYLIGHT
BEGIN:STANDARD
TZOFFSETFROM:+0300
TZOFFSETTO:+0200
TZNAME:EET
DTSTART:20221030T010000
END:STANDARD
BEGIN:DAYLIGHT
TZOFFSETFROM:+0200
TZOFFSETTO:+0300
TZNAME:EEST
DTSTART:20230326T010000
END:DAYLIGHT
BEGIN:STANDARD
TZOFFSETFROM:+0300
TZOFFSETTO:+0200
TZNAME:EET
DTSTART:20231029T010000
END:STANDARD
END:VTIMEZONE
BEGIN:VEVENT
DTSTART;TZID=Europe/Tallinn:20220919T120000
DTEND;TZID=Europe/Tallinn:20220919T130000
DTSTAMP:20260422T051224
CREATED:20220916T102334Z
LAST-MODIFIED:20220916T102334Z
UID:10000487-1663588800-1663592400@estsporthorse.ee
SUMMARY:Piirkondlik ülevaatus Tsura talus
DESCRIPTION:Algusega kell 12.00
URL:https://estsporthorse.ee/syndmus/piirkondlik-ulevaatus-tsura-talus/
END:VEVENT
BEGIN:VEVENT
DTSTART;TZID=Europe/Tallinn:20220922T110000
DTEND;TZID=Europe/Tallinn:20220922T130000
DTSTAMP:20260422T051224
CREATED:20220810T110324Z
LAST-MODIFIED:20220810T110324Z
UID:10000481-1663844400-1663851600@estsporthorse.ee
SUMMARY:Piirkondlik ülevaatus Kurtnas
DESCRIPTION:Algusega kell 11.00
URL:https://estsporthorse.ee/syndmus/piirkondlik-ulevaatus-kurtnas/
END:VEVENT
END:VCALENDAR