BEGIN:VCALENDAR
VERSION:2.0
PRODID:-//ESHKS - ECPv6.15.20//NONSGML v1.0//EN
CALSCALE:GREGORIAN
METHOD:PUBLISH
X-WR-CALNAME:ESHKS
X-ORIGINAL-URL:https://estsporthorse.ee
X-WR-CALDESC:Events for ESHKS
REFRESH-INTERVAL;VALUE=DURATION:PT1H
X-Robots-Tag:noindex
X-PUBLISHED-TTL:PT1H
BEGIN:VTIMEZONE
TZID:Europe/Tallinn
BEGIN:DAYLIGHT
TZOFFSETFROM:+0200
TZOFFSETTO:+0300
TZNAME:EEST
DTSTART:20220327T010000
END:DAYLIGHT
BEGIN:STANDARD
TZOFFSETFROM:+0300
TZOFFSETTO:+0200
TZNAME:EET
DTSTART:20221030T010000
END:STANDARD
BEGIN:DAYLIGHT
TZOFFSETFROM:+0200
TZOFFSETTO:+0300
TZNAME:EEST
DTSTART:20230326T010000
END:DAYLIGHT
BEGIN:STANDARD
TZOFFSETFROM:+0300
TZOFFSETTO:+0200
TZNAME:EET
DTSTART:20231029T010000
END:STANDARD
BEGIN:DAYLIGHT
TZOFFSETFROM:+0200
TZOFFSETTO:+0300
TZNAME:EEST
DTSTART:20240331T010000
END:DAYLIGHT
BEGIN:STANDARD
TZOFFSETFROM:+0300
TZOFFSETTO:+0200
TZNAME:EET
DTSTART:20241027T010000
END:STANDARD
END:VTIMEZONE
BEGIN:VEVENT
DTSTART;TZID=Europe/Tallinn:20230513T110000
DTEND;TZID=Europe/Tallinn:20230513T170000
DTSTAMP:20260422T015138
CREATED:20230420T084841Z
LAST-MODIFIED:20230420T084841Z
UID:10000536-1683975600-1683997200@estsporthorse.ee
SUMMARY:Piirkondlik ülevaatus Gramina kasvanduses
DESCRIPTION:Paralleelselt vabahüppevõistlusega on võimalik esitada hobuseid piirkondliku ülevaatuse korras. 2-6 aastastele ESH/ERP/EVP hobustele on osalemine tasuta (ainult vabahüppevõistlusel osalemine on tasuline – täpsem info juhendis peagi saadaval). \nPiirkondlikul ülevaatusel osalevate hobuste jalgu\, eksterjööri ja vabaliikumisi ning hüppeid  hindab  jõudluskontrolli juhendi järgi hindekomisjon koosseisus Peeter Viiard\, Raigo Kollom\, Kristi – Liis Koppel. Kui hobune soovib osaleda ka vabahüppevõistluse arvestuses siis selleks liidetakse vabahüppevõistluse komisjoni lisaliikmete arvamus. \nÜlesandmine teha ja märkida eraldi ära kui hobust soovitakse lisaks vabahüppele hinnata ka piirkondliku ülevaatuse korras. \nÜlesandmise saab teha siin: https://graminastud.com/vabahuppe-voistlus/ \n 
URL:https://estsporthorse.ee/syndmus/piirkondlik-ulevaatus-gramina-kasvanduses/
ATTACH;FMTTYPE=image/jpeg:https://estsporthorse.ee/wp-content/uploads/2023/04/kollaz.jpg
END:VEVENT
END:VCALENDAR