BEGIN:VCALENDAR
VERSION:2.0
PRODID:-//ESHKS - ECPv6.15.20//NONSGML v1.0//EN
CALSCALE:GREGORIAN
METHOD:PUBLISH
X-ORIGINAL-URL:https://estsporthorse.ee
X-WR-CALDESC:Events for ESHKS
REFRESH-INTERVAL;VALUE=DURATION:PT1H
X-Robots-Tag:noindex
X-PUBLISHED-TTL:PT1H
BEGIN:VTIMEZONE
TZID:Europe/Tallinn
BEGIN:DAYLIGHT
TZOFFSETFROM:+0200
TZOFFSETTO:+0300
TZNAME:EEST
DTSTART:20240331T010000
END:DAYLIGHT
BEGIN:STANDARD
TZOFFSETFROM:+0300
TZOFFSETTO:+0200
TZNAME:EET
DTSTART:20241027T010000
END:STANDARD
BEGIN:DAYLIGHT
TZOFFSETFROM:+0200
TZOFFSETTO:+0300
TZNAME:EEST
DTSTART:20250330T010000
END:DAYLIGHT
BEGIN:STANDARD
TZOFFSETFROM:+0300
TZOFFSETTO:+0200
TZNAME:EET
DTSTART:20251026T010000
END:STANDARD
BEGIN:DAYLIGHT
TZOFFSETFROM:+0200
TZOFFSETTO:+0300
TZNAME:EEST
DTSTART:20260329T010000
END:DAYLIGHT
BEGIN:STANDARD
TZOFFSETFROM:+0300
TZOFFSETTO:+0200
TZNAME:EET
DTSTART:20261025T010000
END:STANDARD
END:VTIMEZONE
BEGIN:VEVENT
DTSTART;TZID=Europe/Tallinn:20250209T153000
DTEND;TZID=Europe/Tallinn:20250309T183000
DTSTAMP:20260420T044702
CREATED:20250107T134932Z
LAST-MODIFIED:20250204T074837Z
UID:10000577-1739115000-1741545000@estsporthorse.ee
SUMMARY:Paul Hubert seminar
DESCRIPTION:Fotol: Paul Hubert Saumuris 2019 aastal\, WBFSH assambleel\, Taani printsessi Benedikte kõrval \nVeebruari alguses külastab Eestit WBFSH takistussõidu 2024. aasta tõuraamatute edetabeli juhi Selle Francais asutajaliige Paul Hubert! Ta on ametnik\, veterinaar ja aretaja ning ta on valmis meie aretajatega kohtuma ja pidama seminari\, kus tutvustab Prantsuse hobumajanduse struktuuri\, vastab aretajate küsimustele.\nSeminarile on oodatud kõik hobusektoris tegutsejad! \nPaul Hubert on: \n–  Selle Francais tõuraamatu asutajaliige ja tõuraamatu endine asepresident.\n– Endine SHF-i asepresident (Société Hippique Française)\, kes vastutas Prantsusmaal noorhobuste ülevaatuste süsteemi eest\, muuhulgas finaalide korraldamise eest Fontainebleau’s (takistussõit)\, Pompadouris (kolmevõistlus) ja Saumuris (koolisõit).\n– Endine FNC (Fédération Nationale du Cheval) juhatuse liige = FNSEA (Prantsuse põllumeeste ametiühing) hobumajanduse eest vastutav tütarühing\n– WBFSH asepresident 21 aastat.\n– Aretanud hobused nagu:\nAshley (endine Alizé des Isles)\, 1999. aasta Göteborgis MM-finaali GP võit (M. Whitaker)\nPolinska des Isles\, kvalifitseerus Lyoni maailmameistrivõistluste finaaliks (F. Mathy)\nCoriolis des Isles\, 170 cm taseme hobune\, Grand Prix***** võit jne (Max Kühner) \nSeminari esialgne programm. \n\nSissejuhatus Prantsusmaa hobusetööstuse lühiajalugu alates kuningas Louis XIV-st kuni keiser Napoleon III-ni\nPrantsusmaa hobumajandussektori ja selle komponentide praegune juhtimine (FFE- Prantsuse Ratsaspordiliit\, SHF Société Hippique Française- aretus ja sporthobused\, France Galop- galopihobused\, Le Trot -traavlid\, SFET : Société française des Equidés de Travail et de Loisir – hobihobused)\nAndmebaaside tööst: sugupuud\, spordi- ja geneetilised indeksid\, omandi- ja sanitaarandmed\, aretus\, passi väljastamine jne\nSelle Français tõuraamat: ajalugu\, aretus ja sporditulemused\nAnglo Arab tõuraamat: ajalugu\, aretus ja sporditulemused\nLõpusõnad.\n\nSeminar on inglise keeles! \nSeminar toimub SA Eesti Maaelumuuseumide Tori Hobusekasvanduse muuseumi näitusesaalis\, 09.veebruaril algusega kell 15.30. \nESHKS liikmetele osalustasu 10 eurot\, mitteliikmetele 15 eurot. \nPalume registreerida hiljemalt 1.02.2024 info@estsporthorse.ee\, osalustasu kanda EESTI SPORTHOBUSTE KASVATAJATE SELTS MTÜ kontole EE142200221014969518\, selgitusse “seminar Hubert”. \nVajadusel saab küsida arve astra@estsporthorse.ee
URL:https://estsporthorse.ee/syndmus/paul-hubert-seminar/
ATTACH;FMTTYPE=image/jpeg:https://estsporthorse.ee/wp-content/uploads/2025/01/73129756_10157700559278256_902746750605852672_n.jpg
END:VEVENT
BEGIN:VEVENT
DTSTART;TZID=Europe/Tallinn:20250306T160000
DTEND;TZID=Europe/Tallinn:20250309T230000
DTSTAMP:20260420T044702
CREATED:20250107T135848Z
LAST-MODIFIED:20250115T071858Z
UID:10000579-1741276800-1741561200@estsporthorse.ee
SUMMARY:Õppereis Belgiasse
DESCRIPTION:ESHKS õppereis Belgiasse 6-9 märts 2025. \n(KOHAD ON TÄIS) \nREISI PROGRAMM (kõik\, mis sisaldub hinnas) \n06 märts:   \nLend Tallinn – Brüssel 16.45 – 18.20 \nÖöbimine: Brüsselis NH Hotel Grand Place Arenberg ****  (transfeer lennujaamast) \nLinnaga tutvumine omal käel. \n\n märts\n\n9.00  buss kasvanduse külastusele (1 h) \n10.00 – 12.00 kasvanduse külastus “De Brabander – Stal de Muze BV” https://www.jorisdebrabander.be/en/home \nbuss Genti (1 h) \n13.00 – 14.00 lõuna Gentis \n14.00 – 15.30 linnaekskursioon Gentis \nbuss Lieri (1\,5h) (siia loodame leida ka ühe kasvanduse külastuse !) \nÖöbimine Lieris *** Hotell Hof van Aragon. Ühine õhtusöök. \n\n märts\n\n9.00 buss BWP täkkude tunnustamise III faasile (10 km Lierist)\, asukoht Azelhof Horse Events\, Aarschotsesteenweg 201\, 2500 Lier\, Belgium. Lisainfo: https://www.belgian-warmblood.com/en/events/stallion-selection-show-3deg-phase-2025 \nTunnustamise programm 8 märtsil: 3-aastased täkud: sadus hüppamine koos oma ratsanikuga – väike rada; 3-aastase BWP  tšempioni ja reservtšempioni väljakuulutamine; 4-8 a. täkud: sadulas hüppamine koos oma ratsanikuga – normaalne rada vastavalt vanusele. Sellele järgneb eelmistel aastatel tunnustatud 4-8-aastaste (BWP ja mitte-BWP) täkkude võistlussarja viimane voor. \nÖöbimine samas hotellis Lieris\, võimalus omal käel sündmuselt Lieri liikuda aga organiseerime ka bussi\, kui sündmuse programm on BWP poolt paika pandud. \nÕhtusöök omal käel. \n  \n  \n\n märts\n\n9.00 buss kasvanduse külastusele (1\,5 t) \n10.30 kasvanduse külastus: Stud 111 https://stud111.com/nl/landingpage \n12.00 buss kasvanduse külastusele (1 h) \n13.00 – 15.00 kasvanduse külastus Stal den Bisschop https://www.vdbisschop.be/en/ \nBuss lennujaama (1\,5 h) \nLend koju: Brüssel – Tallinn  19.20 – 22.50 \n  \nNB! Kohad on täis \n  \n 
URL:https://estsporthorse.ee/syndmus/oppereis-belgiasse/
END:VEVENT
END:VCALENDAR