BEGIN:VCALENDAR
VERSION:2.0
PRODID:-//ESHKS - ECPv6.15.20//NONSGML v1.0//EN
CALSCALE:GREGORIAN
METHOD:PUBLISH
X-WR-CALNAME:ESHKS
X-ORIGINAL-URL:https://estsporthorse.ee
X-WR-CALDESC:Events for ESHKS
REFRESH-INTERVAL;VALUE=DURATION:PT1H
X-Robots-Tag:noindex
X-PUBLISHED-TTL:PT1H
BEGIN:VTIMEZONE
TZID:Europe/Tallinn
BEGIN:DAYLIGHT
TZOFFSETFROM:+0200
TZOFFSETTO:+0300
TZNAME:EEST
DTSTART:20240331T010000
END:DAYLIGHT
BEGIN:STANDARD
TZOFFSETFROM:+0300
TZOFFSETTO:+0200
TZNAME:EET
DTSTART:20241027T010000
END:STANDARD
BEGIN:DAYLIGHT
TZOFFSETFROM:+0200
TZOFFSETTO:+0300
TZNAME:EEST
DTSTART:20250330T010000
END:DAYLIGHT
BEGIN:STANDARD
TZOFFSETFROM:+0300
TZOFFSETTO:+0200
TZNAME:EET
DTSTART:20251026T010000
END:STANDARD
BEGIN:DAYLIGHT
TZOFFSETFROM:+0200
TZOFFSETTO:+0300
TZNAME:EEST
DTSTART:20260329T010000
END:DAYLIGHT
BEGIN:STANDARD
TZOFFSETFROM:+0300
TZOFFSETTO:+0200
TZNAME:EET
DTSTART:20261025T010000
END:STANDARD
END:VTIMEZONE
BEGIN:VEVENT
DTSTART;TZID=Europe/Tallinn:20250825T110000
DTEND;TZID=Europe/Tallinn:20250825T170000
DTSTAMP:20260419T212102
CREATED:20250713T064859Z
LAST-MODIFIED:20250713T064859Z
UID:10000593-1756119600-1756141200@estsporthorse.ee
SUMMARY:Piirkondlikud ülevaatused Topi talus ja Rannaliisu Talus
DESCRIPTION:Algusega kell 11.00 Topi talus \nOrienteeruvalt kell 14.00 Rannaliisu talus
URL:https://estsporthorse.ee/syndmus/piirkondlikud-ulevaatused-topi-talus-ja-rannaliisu-talus/
END:VEVENT
BEGIN:VEVENT
DTSTART;TZID=Europe/Tallinn:20250828T110000
DTEND;TZID=Europe/Tallinn:20250828T140000
DTSTAMP:20260419T212102
CREATED:20250802T183517Z
LAST-MODIFIED:20250802T183517Z
UID:10000595-1756378800-1756389600@estsporthorse.ee
SUMMARY:Piirkondlik ülevaatus Ridala tallis
DESCRIPTION:
URL:https://estsporthorse.ee/syndmus/piirkondlik-ulevaatus-ridala-tallis-2/
END:VEVENT
END:VCALENDAR