BEGIN:VCALENDAR
VERSION:2.0
PRODID:-//ESHKS - ECPv6.15.20//NONSGML v1.0//EN
CALSCALE:GREGORIAN
METHOD:PUBLISH
X-WR-CALNAME:ESHKS
X-ORIGINAL-URL:https://estsporthorse.ee
X-WR-CALDESC:Events for ESHKS
REFRESH-INTERVAL;VALUE=DURATION:PT1H
X-Robots-Tag:noindex
X-PUBLISHED-TTL:PT1H
BEGIN:VTIMEZONE
TZID:Europe/Tallinn
BEGIN:DAYLIGHT
TZOFFSETFROM:+0200
TZOFFSETTO:+0300
TZNAME:EEST
DTSTART:20240331T010000
END:DAYLIGHT
BEGIN:STANDARD
TZOFFSETFROM:+0300
TZOFFSETTO:+0200
TZNAME:EET
DTSTART:20241027T010000
END:STANDARD
BEGIN:DAYLIGHT
TZOFFSETFROM:+0200
TZOFFSETTO:+0300
TZNAME:EEST
DTSTART:20250330T010000
END:DAYLIGHT
BEGIN:STANDARD
TZOFFSETFROM:+0300
TZOFFSETTO:+0200
TZNAME:EET
DTSTART:20251026T010000
END:STANDARD
BEGIN:DAYLIGHT
TZOFFSETFROM:+0200
TZOFFSETTO:+0300
TZNAME:EEST
DTSTART:20260329T010000
END:DAYLIGHT
BEGIN:STANDARD
TZOFFSETFROM:+0300
TZOFFSETTO:+0200
TZNAME:EET
DTSTART:20261025T010000
END:STANDARD
END:VTIMEZONE
BEGIN:VEVENT
DTSTART;TZID=Europe/Tallinn:20250910T110000
DTEND;TZID=Europe/Tallinn:20250910T170000
DTSTAMP:20260419T212236
CREATED:20250811T101839Z
LAST-MODIFIED:20250903T115729Z
UID:10000596-1757502000-1757523600@estsporthorse.ee
SUMMARY:Piirkondlik ülevaatus Tori hobusekasvanduses
DESCRIPTION:Algusega kell 11.00 \nLisainfo (registreerimine\, tasud koha peal\, bokside broneerimine): \nhttps://estsporthorse.ee/wp-content/uploads/2025/08/10.09.25-ESHKS-ulevaatus-THK.pdf
URL:https://estsporthorse.ee/syndmus/piirkondlik-ulevaatus-tori-hobusekasvanduses-2/
END:VEVENT
BEGIN:VEVENT
DTSTART;TZID=Europe/Tallinn:20250911T110000
DTEND;TZID=Europe/Tallinn:20250911T170000
DTSTAMP:20260419T212236
CREATED:20250822T085759Z
LAST-MODIFIED:20250822T085759Z
UID:10000602-1757588400-1757610000@estsporthorse.ee
SUMMARY:Piirkondlik ülevaatus Juurimaa tallis
DESCRIPTION:Algusega kell 11.00
URL:https://estsporthorse.ee/syndmus/piirkondlik-ulevaatus-juurimaa-tallis-4/
END:VEVENT
END:VCALENDAR