BEGIN:VCALENDAR
VERSION:2.0
PRODID:-//ESHKS - ECPv6.15.20//NONSGML v1.0//EN
CALSCALE:GREGORIAN
METHOD:PUBLISH
X-WR-CALNAME:ESHKS
X-ORIGINAL-URL:https://estsporthorse.ee
X-WR-CALDESC:Events for ESHKS
REFRESH-INTERVAL;VALUE=DURATION:PT1H
X-Robots-Tag:noindex
X-PUBLISHED-TTL:PT1H
BEGIN:VTIMEZONE
TZID:Europe/Tallinn
BEGIN:DAYLIGHT
TZOFFSETFROM:+0200
TZOFFSETTO:+0300
TZNAME:EEST
DTSTART:20240331T010000
END:DAYLIGHT
BEGIN:STANDARD
TZOFFSETFROM:+0300
TZOFFSETTO:+0200
TZNAME:EET
DTSTART:20241027T010000
END:STANDARD
BEGIN:DAYLIGHT
TZOFFSETFROM:+0200
TZOFFSETTO:+0300
TZNAME:EEST
DTSTART:20250330T010000
END:DAYLIGHT
BEGIN:STANDARD
TZOFFSETFROM:+0300
TZOFFSETTO:+0200
TZNAME:EET
DTSTART:20251026T010000
END:STANDARD
BEGIN:DAYLIGHT
TZOFFSETFROM:+0200
TZOFFSETTO:+0300
TZNAME:EEST
DTSTART:20260329T010000
END:DAYLIGHT
BEGIN:STANDARD
TZOFFSETFROM:+0300
TZOFFSETTO:+0200
TZNAME:EET
DTSTART:20261025T010000
END:STANDARD
END:VTIMEZONE
BEGIN:VEVENT
DTSTART;TZID=Europe/Tallinn:20251004T110000
DTEND;TZID=Europe/Tallinn:20251004T123000
DTSTAMP:20260420T003955
CREATED:20250907T085051Z
LAST-MODIFIED:20251003T113830Z
UID:10000607-1759575600-1759581000@estsporthorse.ee
SUMMARY:ESHKS rahvuslik noorhobuste sõit TIHS
DESCRIPTION:Osalejatele mõeldud infolehe leiate siit: \nINFOLEHT – RAHVUSLIK TIHS 2025 \nPS – ESH aretajate käepaelad saab kätte A1 väravast nimekirja alusel! Sõidu parima ESH hobuse aretaja on oodatud auhinnatseremooniale\, selleks palume tal kohe pärast sõidu lõppu ja tulemuste selgumist tulla ERL infoboksi juurde.  \nHelistada lisainfoks Andres Tõnissoo 5079810 \nKäepaela saajate nimekiri: \n\nKerttu Tammik\,\nAve Kokla\, \nMihkel Kangur\, \nMarilin Sein\, \nKristiina Pähn\, \nEne Mesila\, \nDaisy Ellermann\, \nPiret Ervald\,\nBirgit Raid\, \n Andra Mai Hoop\,\n Erik Aedviir.\n\nLõplikud osalejad: \n4-aastased hobused \nESH \nCataleya Soul – Jaagup Kallas – aretaja AVE KOKLA \nCatnip K – Johanna Krippel- aretaja MIHKEL KANGUR \nVendetta – Kristina Juhkov – aretaja MARILIN SEIN \nPrincess Paola – Maarja Martinson – aretaja KRISTIINA PÄHN \nCubalou – Stella Bret Mesila – aretaja ENE MESILA \nMagnifique M – Brita Tuvi – aretaja VANESSA MÄLBERG \nImport \nRumored to be Good- Piret Ervald \nLesco Z-Linda Randpere \nBadr Z – Ralf Ellermann \n5-aastased hobused \nESH \nPandora HD – Johanna Krippel- aretaja  DAISY ELLERMANN \nPenelope – Piret Ervald- aretaja  PIRET ERVALD \nCherii K – Emilia Alonen-aretaja  MIHKEL KANGUR \nCovid – Lisette Eylandt- aretaja  BIRGIT RAID \nJacaranda – Anni Liis Hoop- aretaja  ANDRA MAI HOOP \nImport \nHighgate STS Z – Paul Argus \nPadre Summer – Triinu Riisberg \nGlowstar – Riina Seder \nTommy Cash Catlin Vatsel \n6-aastased hobused \nOlympicweis -Vitali Dementev \n 
URL:https://estsporthorse.ee/syndmus/eshks-rahvuslik-noorhobuste-soit-tihs/
ATTACH;FMTTYPE=image/jpeg:https://estsporthorse.ee/wp-content/uploads/2025/09/CE9A6297.jpg
END:VEVENT
END:VCALENDAR