BEGIN:VCALENDAR
VERSION:2.0
PRODID:-//ESHKS - ECPv6.15.20//NONSGML v1.0//EN
CALSCALE:GREGORIAN
METHOD:PUBLISH
X-ORIGINAL-URL:https://estsporthorse.ee
X-WR-CALDESC:Events for ESHKS
REFRESH-INTERVAL;VALUE=DURATION:PT1H
X-Robots-Tag:noindex
X-PUBLISHED-TTL:PT1H
BEGIN:VTIMEZONE
TZID:Europe/Tallinn
BEGIN:DAYLIGHT
TZOFFSETFROM:+0200
TZOFFSETTO:+0300
TZNAME:EEST
DTSTART:20160327T010000
END:DAYLIGHT
BEGIN:STANDARD
TZOFFSETFROM:+0300
TZOFFSETTO:+0200
TZNAME:EET
DTSTART:20161030T010000
END:STANDARD
BEGIN:DAYLIGHT
TZOFFSETFROM:+0200
TZOFFSETTO:+0300
TZNAME:EEST
DTSTART:20170326T010000
END:DAYLIGHT
BEGIN:STANDARD
TZOFFSETFROM:+0300
TZOFFSETTO:+0200
TZNAME:EET
DTSTART:20171029T010000
END:STANDARD
BEGIN:DAYLIGHT
TZOFFSETFROM:+0200
TZOFFSETTO:+0300
TZNAME:EEST
DTSTART:20180325T010000
END:DAYLIGHT
BEGIN:STANDARD
TZOFFSETFROM:+0300
TZOFFSETTO:+0200
TZNAME:EET
DTSTART:20181028T010000
END:STANDARD
BEGIN:DAYLIGHT
TZOFFSETFROM:+0200
TZOFFSETTO:+0300
TZNAME:EEST
DTSTART:20190331T010000
END:DAYLIGHT
BEGIN:STANDARD
TZOFFSETFROM:+0300
TZOFFSETTO:+0200
TZNAME:EET
DTSTART:20191027T010000
END:STANDARD
BEGIN:DAYLIGHT
TZOFFSETFROM:+0200
TZOFFSETTO:+0300
TZNAME:EEST
DTSTART:20200329T010000
END:DAYLIGHT
BEGIN:STANDARD
TZOFFSETFROM:+0300
TZOFFSETTO:+0200
TZNAME:EET
DTSTART:20201025T010000
END:STANDARD
END:VTIMEZONE
BEGIN:VEVENT
DTSTART;TZID=Europe/Tallinn:20190928T080000
DTEND;TZID=Europe/Tallinn:20190929T170000
DTSTAMP:20260419T193913
CREATED:20190705T090502Z
LAST-MODIFIED:20190705T090502Z
UID:10000438-1569657600-1569776400@estsporthorse.ee
SUMMARY:ESHKS Finals of the Inspections
DESCRIPTION:Local Inspections start at spring. ESHBS jury visits  breeders at their studs to inspect young horses.  A \nt the end of September we invite 30 – 40 best young spor thorses to the Final Inspections where we select the \nBest 2 and 3 Years Old Mare and Stallion of the Show \nJumping and Dressage Prospect of the Show \nBest Young Sporthorse Born in Estonia \nBest In Show
URL:https://estsporthorse.ee/syndmus/eshks-finals-of-the-inspections/
LOCATION:Kurtna ratsaklubi\, Tagadi tee 8\, Kurtna küla\, 75503 Saku\, Harjumaa\, Estonia\, Harjumaa\, Eesti
ATTACH;FMTTYPE=:
GEO:59.3334239;25.2466973
X-APPLE-STRUCTURED-LOCATION;VALUE=URI;X-ADDRESS=Kurtna ratsaklubi Tagadi tee 8 Kurtna küla 75503 Saku Harjumaa Estonia Harjumaa Eesti;X-APPLE-RADIUS=500;X-TITLE=Tagadi tee 8\, Kurtna küla\, 75503 Saku\, Harjumaa\, Estonia:geo:25.2466973,59.3334239
END:VEVENT
BEGIN:VEVENT
DTSTART;TZID=Europe/Tallinn:20190928T080000
DTEND;TZID=Europe/Tallinn:20190929T170000
DTSTAMP:20260419T193913
CREATED:20181217T111648Z
LAST-MODIFIED:20190926T195435Z
UID:10000426-1569657600-1569776400@estsporthorse.ee
SUMMARY:ESHKS ülevaatuste finaal 2019
DESCRIPTION:Ajakavad ja kataloog leitavad uudiste alt https://estsporthorse.ee/uudised/finaaliajakavad/
URL:https://estsporthorse.ee/syndmus/eshks-ulevaatuste-finaal-2019/
LOCATION:Kurtna ratsaklubi\, Tagadi tee 8\, Kurtna küla\, 75503 Saku\, Harjumaa\, Estonia\, Harjumaa\, Eesti
ATTACH;FMTTYPE=image/jpeg:https://estsporthorse.ee/wp-content/uploads/2018/10/IMG_3339.jpg
ORGANIZER;CN="ESHKS":MAILTO:info@estsporthorse.ee
GEO:59.3334239;25.2466973
X-APPLE-STRUCTURED-LOCATION;VALUE=URI;X-ADDRESS=Kurtna ratsaklubi Tagadi tee 8 Kurtna küla 75503 Saku Harjumaa Estonia Harjumaa Eesti;X-APPLE-RADIUS=500;X-TITLE=Tagadi tee 8\, Kurtna küla\, 75503 Saku\, Harjumaa\, Estonia:geo:25.2466973,59.3334239
END:VEVENT
BEGIN:VEVENT
DTSTART;TZID=Europe/Tallinn:20180929T100000
DTEND;TZID=Europe/Tallinn:20180930T170000
DTSTAMP:20260419T193913
CREATED:20180309T102423Z
LAST-MODIFIED:20180928T072740Z
UID:10000406-1538215200-1538326800@estsporthorse.ee
SUMMARY:Noorhobuste ülevaatuste finaal 2018
DESCRIPTION:Tänavune Noorhobuste ülevaatuste finaal toimub 29.-30. septembril Kurtna Ratsakeskuses. Peakohtunikuks on teist aastat järjest Nico Schulpen (Holland). Osa võtma on kutsutud 30 piirkondlikel ülevaatustel paremaid tagajärgi saavutanud 2-3-aastast täkku ja mära.\nFinaalülevaatusel selgutatakse välja iga vanuse- ja sooklassi võitja ning peakohtunik annab välja järgmised tiitlid:\nKoolisõidu lootus (parim hinnete summa hüppehindeid arvestamata)\nTakistussõidu lootus (parim hinnete summa sammu ja traavi hindeid arvestamata)\nBest in Show (parima hinnete summa järgi)\nParim Eestis sündinud hobune \nPühapäeval tehakse üritusest ka otseülekanne mida saab jälgida nii ESHKS kodulehel www.estsporthorse.ee kui ka Postimehe vahendusel \nÜlevaatuse ajakava:\n28. septembril\nKell 19-20 võimalus maneežiga tutvuda märadele\nKell 20-21 võimalus maneežiga tutvuda täkkudele\n29. septembril\nKell 10-11 võimalus maneežiga tutvuda märadele\nKell 11-12 võimalus maneežiga tutvuda täkkudele\nKell 10-11 Osavõtjate registreerimine.\nKell 11-13 Hobuste kommenteeritud hindamine kõval pinnal\nKell 13.30-20 Hobuste kommenteeritud hindamine vabal liikumisel ja vabahüpetel\nKell 20-23 Koosolek-seminar Kurtna hotelli väikese maja saalis. Kohtunik Nico Schulpen oli nõus esimese päeva õhtul selle päeva esialgseid hindeid kommenteerima. \n30. septembril\nKell 10-15 Vabahüpete hindamine. Otseülekanne. Kokkuvõtted ja autasustamine ringidel vanusegruppide järgi. \nOlete oodatud jälgima!\nDetailse juhendi leiate siit: JUHEND \nOsalejate kataloog:
URL:https://estsporthorse.ee/syndmus/noorhobuste-ulevaatuste-finaal-2018/
LOCATION:Kurtna ratsaklubi\, Tagadi tee 8\, Kurtna küla\, 75503 Saku\, Harjumaa\, Estonia\, Harjumaa\, Eesti
ATTACH;FMTTYPE=image/jpeg:https://estsporthorse.ee/wp-content/uploads/2018/09/finaal-2018.jpg
ORGANIZER;CN="ESHKS":MAILTO:info@estsporthorse.ee
GEO:59.3334239;25.2466973
X-APPLE-STRUCTURED-LOCATION;VALUE=URI;X-ADDRESS=Kurtna ratsaklubi Tagadi tee 8 Kurtna küla 75503 Saku Harjumaa Estonia Harjumaa Eesti;X-APPLE-RADIUS=500;X-TITLE=Tagadi tee 8\, Kurtna küla\, 75503 Saku\, Harjumaa\, Estonia:geo:25.2466973,59.3334239
END:VEVENT
BEGIN:VEVENT
DTSTART;TZID=Europe/Tallinn:20180929T080000
DTEND;TZID=Europe/Tallinn:20180930T180000
DTSTAMP:20260419T193913
CREATED:20180923T123301Z
LAST-MODIFIED:20180923T123301Z
UID:10000424-1538208000-1538330400@estsporthorse.ee
SUMMARY:Final Inspection 2018
DESCRIPTION:Participants: All together 30 mares and stallions at age of 2-3 years that got highest scores at local inspections.\nJudge: Nico Schulpen (Netherlands).\nTitels:\nBest 2 years old mare 2018\nBest 2 years old stallion 2018\nBest 3 years old mare 2018\nBest 3 years old stallion 2018\nDressage Prospect 2018\nJumping Prospect 2018\nBest in Show 2018\nBest Young horse Born in Estonia 2018 \nLive broadcast starts 30.09 at 10.00 and can be seen at our web page en.estsporthorse.ee \n 
URL:https://estsporthorse.ee/syndmus/final-inspection-2018/
LOCATION:Kurtna ratsaklubi\, Tagadi tee 8\, Kurtna küla\, 75503 Saku\, Harjumaa\, Estonia\, Harjumaa\, Eesti
ATTACH;FMTTYPE=application/vnd.openxmlformats-officedocument.spreadsheetml.sheet:https://estsporthorse.ee/wp-content/uploads/2017/09/klettenbergi-üv-protokoll-26092017-Copy-Copy-Copy.xlsx
ORGANIZER;CN="ESHKS":MAILTO:info@estsporthorse.ee
GEO:59.3334239;25.2466973
X-APPLE-STRUCTURED-LOCATION;VALUE=URI;X-ADDRESS=Kurtna ratsaklubi Tagadi tee 8 Kurtna küla 75503 Saku Harjumaa Estonia Harjumaa Eesti;X-APPLE-RADIUS=500;X-TITLE=Tagadi tee 8\, Kurtna küla\, 75503 Saku\, Harjumaa\, Estonia:geo:25.2466973,59.3334239
END:VEVENT
BEGIN:VEVENT
DTSTART;TZID=Europe/Tallinn:20171104T080000
DTEND;TZID=Europe/Tallinn:20171105T170000
DTSTAMP:20260419T193913
CREATED:20170508T120330Z
LAST-MODIFIED:20171010T193426Z
UID:10000381-1509782400-1509901200@estsporthorse.ee
SUMMARY:Noorhobuste ülevaatuste finaal
DESCRIPTION:On selgunud Eesti noorte sporthobuste ülevaatuste finaali kandidaadid ja korralduse põhimõtted. Nagu möödunud aastal\, toimub finaal tänavu kahel päeval – laupäeval 4. novembril kommenteeritud hindamine kõval pinnal ja kommenteeritud hindamine vabal liikumisel ja vabahüpetel\, pühapäeval 5. novembril on vabahüpete hindamine ja eksterjööri ning liikumise lõplike hinnete otsustamine. Tänavune hindekohtunik on NICO SCHULPEN\, kelle huvitavat ettekannet saime jälgida kevadel ESHKS üldkoosolekul.\nOn arutusel ka vanemate täkkude nn TÄKKUDE VÕISTLUSE või VÕÕRRATSANIKU TESTI lisamine ajakavasse. Selle kohta ootame arvamusi.\nPärast laupäevaseid esinemisi maneežis peame 2017.a. LÕPUPEO. Milline see tuleb\, oleneb osavõtjate arvust\, seepärast palume osavõtust teatada hiljemalt 23. oktoobriks. Osavõtumaks on 15€.\nFINAALI KATALOOGI koostamiseks vajame ülesandmisi hiljemalt 16. oktoobriks. Kes selleks ajaks ei ole oma hobust üles andnud\, jääb kataloogist välja. \nLisatud kandidaatide nimekirjas on juba osavõttu kinnitanud hobuste nimed paksus kirjas. \n \n 
URL:https://estsporthorse.ee/syndmus/noorhobuste_yv_finaal/
LOCATION:Kurtna ratsaklubi\, Tagadi tee 8\, Kurtna küla\, 75503 Saku\, Harjumaa\, Estonia\, Harjumaa\, Eesti
ATTACH;FMTTYPE=image/jpeg:https://estsporthorse.ee/wp-content/uploads/2017/10/finaalVEEBI-2017.jpg
ORGANIZER;CN="ESHKS":MAILTO:info@estsporthorse.ee
GEO:59.3334239;25.2466973
X-APPLE-STRUCTURED-LOCATION;VALUE=URI;X-ADDRESS=Kurtna ratsaklubi Tagadi tee 8 Kurtna küla 75503 Saku Harjumaa Estonia Harjumaa Eesti;X-APPLE-RADIUS=500;X-TITLE=Tagadi tee 8\, Kurtna küla\, 75503 Saku\, Harjumaa\, Estonia:geo:25.2466973,59.3334239
END:VEVENT
BEGIN:VEVENT
DTSTART;TZID=Europe/Tallinn:20170420T120000
DTEND;TZID=Europe/Tallinn:20170420T170000
DTSTAMP:20260419T193913
CREATED:20170323T172503Z
LAST-MODIFIED:20170418T101234Z
UID:10000375-1492689600-1492707600@estsporthorse.ee
SUMMARY:ESHKS Täkkude Päev 2017
DESCRIPTION:ESHKS võõrratsaniku test täkkude tunnustamiseks. \nAJAKAVA \n20.04. 2017 \n10.30 maneež vaba kõigile osavõtjatele. Samal ajal asfaldil eksterjööri ja jalgade hindamine. \nKell 11.00 eksterjööri ja jalgade hindamine \nKell 11.30 jäävad maneeži 4 esimest hobust \nKell 12.00 Võõrratsaniku test. Maneežis on korraga 4 hobust \nKell 15.30 Aretuskomisjoni koosolek (aeg võib muutuda olenevalt hobuste arvust) \nTunnustatud täkkude esitlemine ja parimate autasustamine \nOsalejate kataloogi näeb siit \nOtseülekande link siin
URL:https://estsporthorse.ee/syndmus/takkude-paev/
LOCATION:Kurtna ratsaklubi\, Tagadi tee 8\, Kurtna küla\, 75503 Saku\, Harjumaa\, Estonia\, Harjumaa\, Eesti
ATTACH;FMTTYPE=image/jpeg:https://estsporthorse.ee/wp-content/uploads/2017/03/salomon2.jpg
ORGANIZER;CN="ESHKS":MAILTO:info@estsporthorse.ee
GEO:59.3334239;25.2466973
X-APPLE-STRUCTURED-LOCATION;VALUE=URI;X-ADDRESS=Kurtna ratsaklubi Tagadi tee 8 Kurtna küla 75503 Saku Harjumaa Estonia Harjumaa Eesti;X-APPLE-RADIUS=500;X-TITLE=Tagadi tee 8\, Kurtna küla\, 75503 Saku\, Harjumaa\, Estonia:geo:25.2466973,59.3334239
END:VEVENT
END:VCALENDAR