BEGIN:VCALENDAR
VERSION:2.0
PRODID:-//ESHKS - ECPv6.15.20//NONSGML v1.0//EN
CALSCALE:GREGORIAN
METHOD:PUBLISH
X-ORIGINAL-URL:https://estsporthorse.ee
X-WR-CALDESC:Events for ESHKS
REFRESH-INTERVAL;VALUE=DURATION:PT1H
X-Robots-Tag:noindex
X-PUBLISHED-TTL:PT1H
BEGIN:VTIMEZONE
TZID:Europe/Tallinn
BEGIN:DAYLIGHT
TZOFFSETFROM:+0200
TZOFFSETTO:+0300
TZNAME:EEST
DTSTART:20170326T010000
END:DAYLIGHT
BEGIN:STANDARD
TZOFFSETFROM:+0300
TZOFFSETTO:+0200
TZNAME:EET
DTSTART:20171029T010000
END:STANDARD
BEGIN:DAYLIGHT
TZOFFSETFROM:+0200
TZOFFSETTO:+0300
TZNAME:EEST
DTSTART:20180325T010000
END:DAYLIGHT
BEGIN:STANDARD
TZOFFSETFROM:+0300
TZOFFSETTO:+0200
TZNAME:EET
DTSTART:20181028T010000
END:STANDARD
BEGIN:DAYLIGHT
TZOFFSETFROM:+0200
TZOFFSETTO:+0300
TZNAME:EEST
DTSTART:20190331T010000
END:DAYLIGHT
BEGIN:STANDARD
TZOFFSETFROM:+0300
TZOFFSETTO:+0200
TZNAME:EET
DTSTART:20191027T010000
END:STANDARD
END:VTIMEZONE
BEGIN:VEVENT
DTSTART;TZID=Europe/Tallinn:20180720T080000
DTEND;TZID=Europe/Tallinn:20180722T170000
DTSTAMP:20260421T113306
CREATED:20180309T094134Z
LAST-MODIFIED:20180718T103304Z
UID:10000402-1532073600-1532278800@estsporthorse.ee
SUMMARY:Eesti noorhobuste tšempionaat takistussõidus 2018
DESCRIPTION:NHT takistussõidus 2018.\nNoorhobuste Tsempionaadile takistussõidus on 2018. aastal kokku registreerunud ca 90 noort hobust mis on viiendiku võrra rohkem kui 2017. aastal mil võistles 75 paari.\nTavapäraselt on 6 a. hobuste klassis vähem osalejaid kuid sel aastal kõikides vanusklassides võrdselt.\nJuhendi ja osalejate nimekirjad leiab siit: https://ratsanet.ee/events/1445?locale=et&year=2018\nVaata võistlust otsepildis 22. juulil kell 9.30! ratsutamine.postimees.ee või ESHKS kodulehel
URL:https://estsporthorse.ee/syndmus/eesti-noorhobuste-tsempionaat-takistussoidus-2018/
LOCATION:Sammuli Tall\, Viljandimaa\, Eesti
ATTACH;FMTTYPE=image/jpeg:https://estsporthorse.ee/wp-content/uploads/2018/03/viieaastased.jpg
ORGANIZER;CN="ESHKS":MAILTO:info@estsporthorse.ee
GEO:58.2821746;25.5752233
END:VEVENT
END:VCALENDAR